Workbook

Sheet Indize
A1: TAULA ETA GRAFIKOEN ERANSKINA. 2017. NZOko MEMORIA
A2: 1. taula. Zerga-bilketa likidoa eta zerga-kontrolerako jardueren emaitzak
A3: 2. taula. Nafarroako zerga-sistema. Hitzartutako zergak
A4: 3. taula. Gastuaren banaketa, kapituluka
A5: 4. taula. Nafarroako Zerga Ogasuneko langileen banaketa, generoaren arabera. Kopurua eta portzentajea
A6: 5. grafikoa. Nafarroako Foru Ogasuneko langileen batez besteko adina
A7: 6. grafikoa. Nafarroako Foru Ogasuneko langileen banaketa, zerbitzuka
A8: 7. taula. NZOko langileen banaketa, talde eta mailaka
A9: 8. grafikoa. Nafarroako Zerga Ogasuneko langileen egoera. Behin-behinekotasuna
A10: 9. taula. Nafarroako Zerga Ogasuneko langileen banaketa bulegoka
A11: 10. taula. Zerga-bilketa. Osagaiak
A12: 11. grafikoa. Zerga-bilketaren denbora-bilakaera
... A78: 77. taula. Nafarroako Foru Ogasunaren jardueraren adierazleak

Sheet C1
A1: 1. taula. Zerga-bilketa likidoa eta zerga-kontrolerako jardueren emaitzak
B3: 2016 | C3: 2017 | E3: 2017/2016 aldakuntza
B4: Zenbatekoa Mila euro | C4: Zenbatekoa Mila euro | E4: Zenbatekoa Mila euro | F4: Zenbatekoa Mila euro
A5: Zerga-bilketa likidoa | B5: 3249731.9 | C5: 3682671.1 | E5: =C5-B5 -> 432939.26 | F5: =(C5-B5)/B5 -> 0.13322307
A6: Zerga-kontrolerako jarduketetan bildutako dirua | B6: 133869.44 | C6: 160123.04 | E6: =C6-B6 -> 26253.599 | F6: =(C6-B6)/B6 -> 0.19611346

Sheet C2
A1: 2. taula. Nafarroako zerga-sistema. Hitzartutako zergak
A3: HITZARTUTAKO ZERGAK | B3: Kudeatu eta bildu | C3: Nafarroak bere araudi-gaitasuna, Estatukoaren desberdina
A4: Pertsona Fisikoen Errentaren gaineko Zerga | B4: Ö (1) | C4: Ö
A5: Ondarearen gaineko Zerga | B5: Ö | C5: Ö
A6: Sozietateen gaineko Zerga | B6: Ö | C6: Ö
A7: Ez Egoiliarren Errentaren gaineko Zerga | B7: Ö
A8: Oinordetzen eta Dohaintzen gaineko Zerga | B8: Ö | C8: Ö
A9: Energia elektrikoaren ekoizpenaren balioaren gaineko zerga | B9: Ö
A10: Erregai nuklear gastatuaren eta hondakin erradioaktiboen ekoizpenaren gaineko zerga | B10: Ö
A11: Erregai nuklear gastatua eta hondakin erradiaktiboak biltegiratzearen gaineko zerga | B11: Ö
A12: Kreditu-entitateen gordailuen gaineko zerga | B12: Ö
A13: Balio Erantsiaren gaineko Zerga | B13: Ö (2)
A14: Garagardoaren gaineko zerga | B14: Ö (2)
A15: Ardoaren eta edari hartzituen gaineko zerga | B15: Ö (2)
A16: Tarteko produktuen gaineko zerga | B16: Ö (2)
A17: Alkoholaren eta edari deribatuen gaineko zerga | B17: Ö (2)
A18: Hidrokarburoen gaineko zerga | B18: Ö (2)
A19: Tabako-laboreen gaineko zerga | B19: Ö
A20: Zenbait garraiobideren gaineko zerga berezia | B20: Ö (2)
... A24: Aseguru-primen gaineko zerga | B24: Ö
A25: Ondare eskualdaketen eta egintza juridiko dokumentatuen gaineko zerga | B25: Ö | C25: Ö
A26: Jokoaren gaineko zergak | B26: Ö | C26: Ö
A27: Tasak | B27: Ö | C27: Ö
A29: (1) Hauek izan ezik: lan- edo administrazio-kontratazioko erregimenean dauden Estatuko funtzionario eta langileen atxikipenak; Estatuko Administrazioak ordaindutako enpresa-jardueren eta jarduera profesionalen etekinen atxipenak; eta Estatuak eta araubide erkideko autonomia-erkidegoek emandako aktiboen kapital higigarriaren atxikipenak
A30: (2) Inportazioari ezarritako kargak izan ezik

Sheet C3
A1: 3. taula. Gastuaren banaketa, kapituluka
B3: 2016 | D3: 2017 | G3: 2017/2016 aldakuntza
B4: Zenbatekoa Mila euro | C4: Guztizkoaren portzentajea | D4: Zenbatekoa Mila euro | E4: Guztizkoaren portzentajea | G4: Zenbatekoa Mila euro | H4: Aldakuntza tasa
A5: Langileen gastuak | B5: 14971.976 | C5: =B5/$B$9 -> 0.54814746 | D5: 15246.703 | E5: =D5/$D$9 -> 0.57168589 | G5: =D5-B5 -> 274.72727 | H5: =D5/B5-1 -> 0.018349433
A6: Ondasun eta zerbitzuetako gastu arruntak | B6: 7166.5608 | C6: =B6/$B$9 -> 0.262379 | D6: 7380.3183 | E6: =D6/$D$9 -> 0.27673024 | G6: =D6-B6 -> 213.75757 | H6: =D6/B6-1 -> 0.029827078
A7: Finantza-gastuak | B7: 3836.9938 | C7: =B7/$B$9 -> 0.14047835 | D7: 2593.4661 | E7: =D7/$D$9 -> 0.097243843 | G7: =D7-B7 -> -1243.5277 | H7: =D7/B7-1 -> -0.32408905
A8: Inbertsio errealak | B8: 1338.2436 | C8: =B8/$B$9 -> 0.048995192 | D8: 1449.2332 | E8: =D8/$D$9 -> 0.05434002 | G8: =D8-B8 -> 110.98956 | H8: =D8/B8-1 -> 0.082936738
A9: GUZTIRA | B9: =SUM(B5:B8) -> 27313.774 | C9: =B9/$B$9 -> 1 | D9: =SUM(D5:D8) -> 26669.721 | E9: =D9/$D$9 -> 1 | G9: =D9-B9 -> -644.05326 | H9: =D9/B9-1 -> -0.023579797

Sheet C4
A1: 4. taula. Nafarroako Zerga Ogasuneko langileen banaketa, generoaren arabera. Kopurua eta portzentajea
B3: 2016 | D3: 2017 | G3: 2017/2016 aldakuntza
B4: Kopurua | C4: Guztizkoaren portzentajea | D4: Kopurua | E4: Guztizkoaren portzentajea | G4: Kopurua | H4: Portzentajea
A5: Emakumeak | B5: 214 | C5: =B5/$B$7 -> 0.67936508 | D5: 213 | E5: =D5/$D$7 -> 0.67405063 | G5: =D5-B5 -> -1 | H5: =D5/B5-1 -> -0.0046728972
A6: Gizonak | B6: 101 | C6: =B6/$B$7 -> 0.32063492 | D6: 103 | E6: =D6/$D$7 -> 0.32594937 | G6: =D6-B6 -> 2 | H6: =D6/B6-1 -> 0.01980198
A7: NZOko LANGILEAK GUZTIRA | B7: =SUM(B5:B6) -> 315 | C7: =B7/$B$7 -> 1 | D7: =SUM(D5:D6) -> 316 | E7: =D7/$D$7 -> 1 | G7: =D7-B7 -> 1 | H7: =D7/B7-1 -> 0.0031746032

Sheet G5
A1: 5. grafikoa. Nafarroako Foru Ogasuneko langileen batez besteko adina
E24: 2017/2016 aldakuntza
B25: 2016 | C25: 2017 | E25: Balio absolutua | F25: Portzentajea
A26: Emakumeak | B26: 47.383178 | C26: 47.19 | E26: =C26-B26 -> -0.19317757 | F26: =(C26-B26)/B26 -> -0.0040769231
A27: Gizonak | B27: 48.316832 | C27: 48.62 | E27: =C27-B27 -> 0.30316832 | F27: =(C27-B27)/B27 -> 0.0062745902
A28: Langileak guztira | B28: 47.68254 | C28: 47.66 | E28: =C28-B28 -> -0.022539683 | F28: =(C28-B28)/B28 -> -0.00047270306

Sheet G6
A1: 6. grafikoa. Nafarroako Foru Ogasuneko langileen banaketa, zerbitzuka
A30: 2017. urtean, "Zergen azterketaren atala" "Hitzarmen Ekonomikoaren eta Finantza Planifikazioaren Zerbitzuan" integratu zen
A33: ZERBITZUA | B33: 2016 | C33: 2017
A34: Zuzendaritza | B34: 2 | C34: 2
A35: Zerga-analisia | B35: 1 | C35: 0
A36: Administrazioa | B36: 4 | C36: 5
A37: Zergadunari Laguntza eta Argibideak | B37: 68 | C37: 66
A38: Hitzarmen Ekonomikoa eta Finantza Plangintza | B38: 6 | C38: 8
A39: Arauen Garapen eta Aholkularitza Juridikoa | B39: 8 | C39: 8
A40: PFEZaren eta Ondarearen gaineko Zergaren Kudeaketa | B40: 50 | C40: 51
A41: Zerga Kudeaketa | B41: 49 | C41: 48
A42: Tributu Ikuskapena | B42: 44 | C42: 43
A43: Diru-bilketa | B43: 31 | C43: 31
A44: Lur Ondasunen eta Ondarearen gaineko Zergak | B44: 30 | C44: 32
A45: Tributuen arloko Informazio Sistemak | B45: 22 | C45: 22
A46: NZOeko LANGILEAK GUZTIRA | B46: =SUM(B34:B45) -> 315 | C46: =SUM(C34:C45) -> 316

Sheet C7
A1: 7. taula. NZOko langileen banaketa, talde eta mailaka
E3: 2017/2016 aldakuntza
B4: 2016 | C4: 2017 | E4: Kopurua | F4: Portzentajea
A5: Ogasuneko teknikaria | B5: 59 | C5: 59 | E5: =C5-B5 -> 0 | F5: =(C5-B5)/B5 -> 0
A6: Beste A maila batzuk | B6: 13 | C6: 11 | E6: =C6-B6 -> -2 | F6: =(C6-B6)/B6 -> -0.15384615
A7: A maila | B7: =SUM(B5:B6) -> 72 | C7: =SUM(C5:C6) -> 70 | E7: =C7-B7 -> -2 | F7: =(C7-B7)/B7 -> -0.027777778
A8: Ogasuneko kudeatzaile eta ikertzaile laguntzailea | B8: 111 | C8: 113 | E8: =C8-B8 -> 2 | F8: =(C8-B8)/B8 -> 0.018018018
A9: Beste B maila batzuk | B9: 39 | C9: 35 | E9: =C9-B9 -> -4 | F9: =(C9-B9)/B9 -> -0.1025641
A10: B maila | B10: =SUM(B8:B9) -> 150 | C10: =SUM(C8:C9) -> 148 | E10: =C10-B10 -> -2 | F10: =(C10-B10)/B10 -> -0.013333333
A11: Administraria | B11: 39 | C11: 41 | E11: =C11-B11 -> 2 | F11: =(C11-B11)/B11 -> 0.051282051
A12: Zerga-eragileak eta ofizial administrariak | B12: 6 | C12: 7 | E12: =C12-B12 -> 1 | F12: =(C12-B12)/B12 -> 0.16666667
A13: C maila | B13: =SUM(B11:B12) -> 45 | C13: =SUM(C11:C12) -> 48 | E13: =C13-B13 -> 3 | F13: =(C13-B13)/B13 -> 0.066666667
A14: Administrari laguntzailea | B14: 47 | C14: 49 | E14: =C14-B14 -> 2 | F14: =(C14-B14)/B14 -> 0.042553191
A15: D maila | B15: =+B14 -> 47 | C15: =+C14 -> 49 | E15: =C15-B15 -> 2 | F15: =(C15-B15)/B15 -> 0.042553191
A16: Mendekoa | B16: 1 | C16: 1 | E16: =C16-B16 -> 0 | F16: -
A17: E maila | B17: 1 | C17: 1 | E17: =C17-B17 -> 0 | F17: -
A18: NFOko langileak guztira | B18: =+B7+B10+B13+B15+B17 -> 315 | C18: =+C7+C10+C13+C15+C17 -> 316 | E18: =C10-B10 -> -2 | F18: =(C10-B10)/B10 -> -0.013333333
A21: Beste A maila batzuk: aplikazioen analista; arkitektoa; agronomia-ingeniaria; ekonomiako administrazio publikoko teknikaria; arlo juridikoko administrazio publikoko teknikaria; goi-mailako tituluduna (FD)
A22: Beste B maila batzuk: arkitekto teknikoa; enpresa-zientzietan diplomaduna; nekazaritzako ingeniari teknikoa; Zuzenbideko EMT; EMT (PFEZ); EMT (BEZ); EMT

Sheet G8
A1: 8. grafikoa. Nafarroako Zerga Ogasuneko langileen egoera. Behin-behinekotasuna
B25: 2016 | D25: 2017
A26: Titularrak | B26: 190 | C26: =B26/$B$31 -> 0.6031746 | D26: 171 | E26: =D26/$D$31 -> 0.54113924
A27: Buruzagitzak | B27: 63 | C27: =B27/$B$31 -> 0.2 | D27: 64 | E27: =D27/$D$31 -> 0.20253165
A28: Kontratatuak | B28: 34 | C28: =B28/$B$31 -> 0.10793651 | D28: 52 | E28: =D28/$D$31 -> 0.16455696
A29: Prestakuntza | B29: 22 | C29: =B29/$B$31 -> 0.06984127 | D29: 24 | E29: =D29/$D$31 -> 0.075949367
A30: Beste batzuk | B30: 6 | C30: =B30/$B$31 -> 0.019047619 | D30: 5 | E30: =D30/$D$31 -> 0.015822785
A31: NFOko langileak guztira | B31: =SUM(B26:B30) -> 315 | C31: =B31/$B$31 -> 1 | D31: =SUM(D26:D30) -> 316 | E31: =D31/$D$31 -> 1

Sheet C9
A1: 9. taula. Nafarroako Zerga Ogasuneko langileen banaketa bulegoka
E3: 2017/2016 aldakuntza
B4: 2016 | C4: 2017 | E4: Kopurua | F4: Portzentajea
A5: Egoitza nagusia | B5: 214 | C5: 217 | E5: =C5-B5 -> 3 | F5: =(C5-B5)/B5 -> 0.014018692
A6: Iruñeko lurralde-bulegoak | B6: 84 | C6: 83 | E6: =C6-B6 -> -1 | F6: =(C6-B6)/B6 -> -0.011904762
A7: Lizarrako lurralde-bulegoa | B7: 6 | C7: 6 | E7: =C7-B7 -> 0 | F7: -
A8: Tafallako lurralde-bulegoa | B8: 3 | C8: 3 | E8: =C8-B8 -> 0 | F8: -
A9: Tuterako lurralde-bulegoa | B9: 8 | C9: 7 | E9: =C9-B9 -> -1 | F9: =(C9-B9)/B9 -> -0.125
A10: NZOko langileak guztira | B10: =SUM(B5:B9) -> 315 | C10: =SUM(C5:C9) -> 316 | E10: =C10-B10 -> 1 | F10: =(C10-B10)/B10 -> 0.0031746032

Sheet C10
A1: 10. taula. Zerga-bilketa. Osagaiak
B3: 2016 | C3: 2017 | E3: Variación 2017/2016
B4: Zenbatekoa Mila euro | C4: Zenbatekoa Mila euro | E4: Zenbatekoa Mila euro | F4: Aldakuntza-tasa
A5: Diru-bilketa osoa | B5: 4563540.8 | C5: 4959181.3 | E5: =C5-B5 -> 395640.44 | F5: =(C5-B5)/B5 -> 0.086695936
A6: Itzulketak | B6: 1313809 | C6: 1276510.2 | E6: =C6-B6 -> -37298.812 | F6: =(C6-B6)/B6 -> -0.028389828
A7: Diru-bilketa likidoa | B7: 3249731.9 | C7: 3682671.1 | E7: =C7-B7 -> 432939.26 | F7: =(C7-B7)/B7 -> 0.13322307

Sheet G11
A1: 11. grafikoa. Zerga-bilketaren denbora-bilakaera
B36: 2007 | C36: 2008 | D36: 2009 | E36: 2010 | F36: 2011 | G36: 2012 | H36: 2013 | I36: 2014 | J36: 2015 | K36: 2016 | L36: 2017
A37: Diru-bilketa guztira | B37: 4569564.7 | C37: 4310607.8 | D37: 4068712.9 | E37: 3954897.6 | F37: 4034191 | G37: 4070844.4 | H37: 4368385.5 | I37: 4255033.7 | J37: 4398741.8 | K37: 4563540.8 | L37: ='C10'!C5 -> 4959181.3
A38: Itzulketak | B38: 975947.18 | C38: 1131418.4 | D38: 1032557 | E38: 1085991.9 | F38: 891687.29 | G38: 1092254.6 | H38: 1461255.5 | I38: 1247468 | J38: 1200312 | K38: 1313809 | L38: ='C10'!C6 -> 1276510.2
A39: Diru-bilketa likidoa | B39: =B37-B38 -> 3593617.5 | C39: =C37-C38 -> 3179189.4 | D39: =D37-D38 -> 3036155.8 | E39: =E37-E38 -> 2868905.7 | F39: =F37-F38 -> 3142503.7 | G39: =G37-G38 -> 2978589.8 | H39: =H37-H38 -> 2907130 | I39: =I37-I38 -> 3007565.7 | ... K39: =K37-K38 -> 3249731.9 | L39: ='C10'!C7 -> 3682671.1
A40: Urteko aldakuntzaren tasa | B40: 0.076891524 | C40: =C39/B39-1 -> -0.11532338 | D40: =D39/C39-1 -> -0.044990575 | E40: =E39/D39-1 -> -0.05508616 | F40: =F39/E39-1 -> 0.095366694 | G40: =G39/F39-1 -> -0.052160288 | H40: =H39/G39-1 -> -0.023991161 | I40: =I39/H39-1 -> 0.034548058 | J40: =J39/I39-1 -> 0.063461323 | ... L40: =L39/K39-1 -> 0.13322307

Sheet C12
A1: 12. taula. Diru-bilketa guztira. Zerga-figuren araberako xehetasuna
B3: 2016 | D3: 2017 | G3: 2017/2016 aldakuntza
B4: Zenbatekoa Mila euro | C4: Guztirakoaren % | D4: Zenbatekoa Mila euro | E4: Guztirakoaren % | G4: Zenbatekoa Mila euro | H4: Aldakuntza-tasa
A5: Laneko atxikipenak | B5: 1121956 | C5: =B5/$B$56 -> 0.24585207 | D5: 1181439.4 | E5: =D5/$D$56 -> 0.23823275 | G5: =(D5-B5) -> 59483.414 | H5: =(D5-B5)/B5 -> 0.053017601
A6: Kapitalaren atxikipenak | B6: 86073.109 | C6: =B6/$B$56 -> 0.018861036 | D6: 87409.019 | E6: =D6/$D$56 -> 0.017625695 | G6: =(D6-B6) -> 1335.9098 | H6: =(D6-B6)/B6 -> 0.015520641
A7: Zatikapenak | B7: 39564.114 | C7: =B7/$B$56 -> 0.0086696088 | D7: 44066.073 | E7: =D7/$D$56 -> 0.0088857557 | G7: =(D7-B7) -> 4501.9597 | H7: =(D7-B7)/B7 -> 0.11378897
A8: Kuota diferentziala | B8: 146107.62 | C8: =B8/$B$56 -> 0.032016284 | D8: 169477.74 | E8: =D8/$D$56 -> 0.03417454 | G8: =(D8-B8) -> 23370.119 | H8: =(D8-B8)/B8 -> 0.15995141
A9: PFEZ guztira | B9: 1393700.8 | C9: =B9/$B$56 -> 0.305399 | D9: 1482392.2 | E9: =D9/$D$56 -> 0.29891874 | G9: =(D9-B9) -> 88691.403 | H9: =(D9-B9)/B9 -> 0.063637333
A10: Kapitalaren atxikipenak | B10: 36861.23 | C10: =B10/$B$56 -> 0.0080773309 | D10: 37403.721 | E10: =D10/$D$56 -> 0.0075423178 | G10: =(D10-B10) -> 542.49158 | H10: =(D10-B10)/B10 -> 0.014717132
A11: Konturako ordainketa | B11: 134591.84 | C11: =B11/$B$56 -> 0.029492854 | D11: 134033.26 | E11: =D11/$D$56 -> 0.027027295 | G11: =(D11-B11) -> -558.58752 | H11: =(D11-B11)/B11 -> -0.004150233
A12: Kuota diferentziala | B12: 126348.8 | C12: =B12/$B$56 -> 0.027686572 | D12: 177555.44 | E12: =D12/$D$56 -> 0.035803378 | G12: =(D12-B12) -> 51206.639 | H12: =(D12-B12)/B12 -> 0.40527997
A13: Sozietateen gaineko Zerga guztira | B13: 297801.88 | C13: =B13/$B$56 -> 0.065256757 | D13: 348992.42 | E13: =D13/$D$56 -> 0.070372991 | G13: =(D13-B13) -> 51190.543 | H13: =(D13-B13)/B13 -> 0.17189463
A14: Ez-egoiliarren errentaren gaineko zerga | B14: 7136.5203 | C14: =B14/$B$56 -> 0.0015638121 | D14: 6446.1618 | E14: =D14/$D$56 -> 0.0012998439 | G14: =(D14-B14) -> -690.35854 | H14: =(D14-B14)/B14 -> -0.096736015
A15: Oinordetzen eta dohaintzen gaineko zerga | B15: 46770.959 | C15: =B15/$B$56 -> 0.010248831 | D15: 46672.899 | E15: =D15/$D$56 -> 0.0094114122 | G15: =(D15-B15) -> -98.059755 | H15: =(D15-B15)/B15 -> -0.0020965949
A16: Ondarearen gaineko zerga | B16: 33478.192 | C16: =B16/$B$56 -> 0.0073360124 | D16: 43155.65 | E16: =D16/$D$56 -> 0.0087021723 | G16: =(D16-B16) -> 9677.4577 | H16: =(D16-B16)/B16 -> 0.28906751
... A32: BEZaren dokuntza fiskala | B32: 835522.13 | C32: =B32/$B$56 -> 0.18308637 | D32: 889110.09 | E32: =D32/$D$56 -> 0.17928566 | G32: =(D32-B32) -> 53587.961 | H32: =(D32-B32)/B32 -> 0.064137094
A33: Alkoholen eta tarteko produktuen doikuntza fiskala | B33: 0 | C33: =B33/$B$56 -> 0 | D33: 0 | E33: =D33/$D$56 -> 0 | G33: =(D33-B33) -> 0
A34: Garagardoaren doikuntza fiskala | B34: 4515.1971 | C34: =B34/$B$56 -> 0.00098940652 | D34: 6436.1937 | E34: =D34/$D$56 -> 0.0012978339 | G34: =(D34-B34) -> 1920.9966 | H34: =(D34-B34)/B34 -> 0.42545134
A35: Hidrokarburoen doikuntza fiskala | B35: 35818.277 | C35: =B35/$B$56 -> 0.0078487907 | D35: 174472.07 | E35: =D35/$D$56 -> 0.035181629 | G35: =(D35-B35) -> 138653.8
A36: Tabako-laboren doikuntza fiskala | B36: 17052.338 | C36: =B36/$B$56 -> 0.0037366462 | D36: 12235.117 | E36: =D36/$D$56 -> 0.0024671648 | G36: =(D36-B36) -> -4817.2203 | H36: =(D36-B36)/B36 -> -0.28249618
A37: Zerga-doikuntzak guztira | B37: 892907.94 | C37: =B37/$B$56 -> 0.19566121 | D37: 1082253.5 | E37: =D37/$D$56 -> 0.21823229 | G37: =(D37-B37) -> 189345.53 | H37: =(D37-B37)/B37 -> 0.21205493
A38: Ondare-eskualdaketen gaineko zerga | B38: 40573.414 | C38: =B38/$B$56 -> 0.0088907747 | D38: 47584.975 | E38: =D38/$D$56 -> 0.0095953288 | G38: =(D38-B38) -> 7011.5613 | H38: =(D38-B38)/B38 -> 0.17281172
A39: Egintza juridiko dokumentatuen gaineko zerga | B39: 12166.108 | C39: =B39/$B$56 -> 0.002665936 | D39: 12385.637 | E39: =D39/$D$56 -> 0.0024975165 | G39: =(D39-B39) -> 219.5294 | H39: =(D39-B39)/B39 -> 0.018044342
A40: Aseguru-primen gaineko zerga | B40: 20275.492 | C40: =B40/$B$56 -> 0.0044429299 | D40: 20591.041 | E40: =D40/$D$56 -> 0.0041521049 | G40: =(D40-B40) -> 315.54856 | H40: =(D40-B40)/B40 -> 0.015563053
A41: Hidrokarburoen txikizkako salmenten gaineko zerga | B41: 316.62511 | C41: =B41/$B$56 -> 6.9381457e-05 | D41: 226.25582 | E41: =D41/$D$56 -> 4.5623624e-05 | G41: =(D41-B41) -> -90.36929 | H41: =(D41-B41)/B41 -> -0.28541416
A42: Joko-jardueren gaineko zerga | B42: 1601.3527 | C42: =B42/$B$56 -> 0.00035090136 | D42: 1925.0317 | E42: =D42/$D$56 -> 0.00038817531 | G42: =(D42-B42) -> 323.67904 | H42: =(D42-B42)/B42 -> 0.20212851
A43: Gas fluoratuen gaineko zerga | B43: 927.87446 | C43: =B43/$B$56 -> 0.00020332336 | D43: 1496.1953 | E43: =D43/$D$56 -> 0.00030170207 | G43: =(D43-B43) -> 568.32082 | H43: =(D43-B43)/B43 -> 0.61249754
A44: Desagertutako zergak | B44: 0 | C44: =B44/$B$56 -> 0 | D44: 0 | E44: =D44/$D$56 -> 0 | G44: =(D44-B44) -> 0
A45: ZEHARKAKO ZERGAK GUZTIRA | B45: 2717621.7 | C45: =B45/$B$56 -> 0.59550727 | D45: 2949290.1 | E45: =D45/$D$56 -> 0.5947131 | G45: =(D45-B45) -> 231668.36 | H45: =(D45-B45)/B45 -> 0.08524673
A46: ZERGAK GUZTIRA | B46: 4531707 | C46: =B46/$B$56 -> 0.9930243 | D46: 4924871.2 | E46: =D46/$D$56 -> 0.99308151 | G46: =(D46-B46) -> 393164.28 | H46: =(D46-B46)/B46 -> 0.08675854
A47: Jokoaren gaineko tasak | B47: 8570.5743 | C47: =B47/$B$56 -> 0.0018780536 | D47: 8643.7292 | E47: =D47/$D$56 -> 0.001742975 | G47: =(D47-B47) -> 73.154875 | H47: =(D47-B47)/B47 -> 0.0085355861
A48: Meatzeen azaleraren kanona | B48: 25.7685 | C48: =B48/$B$56 -> 5.6466023e-06 | D48: 11.51153 | E48: =D48/$D$56 -> 2.3212561e-06 | G48: =(D48-B48) -> -14.25697 | H48: =(D48-B48)/B48 -> -0.55327124
A49: Telefónicaren kanona | B49: 69.26517 | C49: =B49/$B$56 -> 1.5177945e-05 | D49: 130.97859 | E49: =D49/$D$56 -> 2.6411333e-05 | G49: =(D49-B49) -> 61.71342 | H49: =(D49-B49)/B49 -> 0.89097334
A50: Jokorako kartoien salmenta | B50: 54.48332 | C50: =B50/$B$56 -> 1.1938826e-05 | D50: 55.61664 | E50: =D50/$D$56 -> 1.1214883e-05 | G50: =(D50-B50) -> 1.13332 | H50: =(D50-B50)/B50 -> 0.020801229
A51: Zehapen fiskalak | B51: 11333.902 | C51: =B51/$B$56 -> 0.0024835763 | D51: 12024.359 | E51: =D51/$D$56 -> 0.0024246661 | G51: =(D51-B51) -> 690.45684 | H51: =(D51-B51)/B51 -> 0.060919606
A52: Geroratze-interesak | B52: 3829.5079 | C52: =B52/$B$56 -> 0.00083915276 | D52: 4118.1476 | E52: =D52/$D$56 -> 0.00083040877 | G52: =(D52-B52) -> 288.63972 | H52: =(D52-B52)/B52 -> 0.075372535
A53: Premiamendu-gainordainak | B53: 6252.7946 | C53: =B53/$B$56 -> 0.0013701629 | D53: 7684.2485 | E53: =D53/$D$56 -> 0.0015494994 | G53: =(D53-B53) -> 1431.454 | H53: =(D53-B53)/B53 -> 0.22893027
A54: Beste diru-sarrera batzuk | B54: 1697.5841 | C54: =B54/$B$56 -> 0.00037198837 | D54: 1641.4544 | E54: =D54/$D$56 -> 0.00033099302 | G54: =(D54-B54) -> -56.129723 | H54: =(D54-B54)/B54 -> -0.033064472
A55: TASAK ETA BESTELAKOAK GUZTIRA | B55: 31833.88 | C55: =B55/$B$56 -> 0.0069756973 | D55: 34310.045 | E55: =D55/$D$56 -> 0.0069184898 | G55: =(D55-B55) -> 2476.1654 | H55: =(D55-B55)/B55 -> 0.077783967
A56: TRIBUTUAK ETA BESTELAKOAK GUZTIRA | B56: 4563540.8 | C56: =B56/$B$56 -> 1 | D56: 4959181.3 | E56: =D56/$D$56 -> 1 | G56: =(D56-B56) -> 395640.44 | H56: =(D56-B56)/B56 -> 0.086695936

Sheet C13
A1: 13. taula. Itzulketen zerga-bilketa. Zerga-figuren araberako xehetasuna
B3: 2016 | D3: 2017 | G3: 2017/2016 aldakuntza
B4: Zenbatekoa Mila euro | C4: Guztizkoaren % | D4: Zenbatekoa Mila euro | E4: Guztizkoaren % | G4: Zenbatekoa Mila euro | H4: Aldakuntza-tasa
A5: Laneko atxikipenak | B5: 5951.477 | C5: =B5/$B$56 -> 0.0045299409 | D5: 3823.3819 | E5: =D5/$D$56 -> 0.0029951833 | G5: =(D5-B5) -> -2128.0951 | H5: =(D5-B5)/B5 -> -0.35757428
A6: Kapitalaren atxikipenak | B6: 475.82539 | C6: =B6/$B$56 -> 0.00036217243 | D6: 666.43747 | E6: =D6/$D$56 -> 0.00052207768 | G6: =(D6-B6) -> 190.61208 | H6: =(D6-B6)/B6 -> 0.40059249
A7: Zatikapenak | B7: 547.84201 | C7: =B7/$B$56 -> 0.00041698757 | D7: 433.43504 | E7: =D7/$D$56 -> 0.00033954688 | G7: =(D7-B7) -> -114.40697 | H7: =(D7-B7)/B7 -> -0.20883205
A8: Kuota diferentziala | B8: 207837.67 | C8: =B8/$B$56 -> 0.15819474 | D8: 194643.62 | E8: =D8/$D$56 -> 0.15248106 | G8: =(D8-B8) -> -13194.043 | H8: =(D8-B8)/B8 -> -0.063482443
A9: PFEZ guztira | B9: 214812.81 | C9: =B9/$B$56 -> 0.16350384 | D9: 199566.88 | E9: =D9/$D$56 -> 0.15633787 | G9: =(D9-B9) -> -15245.933 | H9: =(D9-B9)/B9 -> -0.070973108
A10: Kapitalaren atxikipenak | B10: 203.92517 | C10: =B10/$B$56 -> 0.00015521676 | D10: 277.48059 | E10: =D10/$D$56 -> 0.00021737437 | G10: =(D10-B10) -> 73.555422 | H10: =(D10-B10)/B10 -> 0.36069811
A11: Konturako ordainketa | B11: 250.79009 | C11: =B11/$B$56 -> 0.00019088779 | D11: 241.80614 | E11: =D11/$D$56 -> 0.00018942751 | G11: =(D11-B11) -> -8.98395 | H11: =(D11-B11)/B11 -> -0.035822588
A12: Kuota diferentziala | B12: 81148.967 | C12: =B12/$B$56 -> 0.061766184 | D12: 92455.662 | E12: =D12/$D$56 -> 0.072428457 | G12: =(D12-B12) -> 11306.695 | H12: =(D12-B12)/B12 -> 0.13933259
A13: Sozietateen gaineko Zerga guztira | B13: 81603.682 | C13: =B13/$B$56 -> 0.062112288 | D13: 92974.949 | E13: =D13/$D$56 -> 0.072835259 | G13: =(D13-B13) -> 11371.267 | H13: =(D13-B13)/B13 -> 0.13934747
A14: Ez-egoiliarren errentaren gaineko zerga | B14: 741.63743 | C14: =B14/$B$56 -> 0.00056449411 | D14: 683.7624 | E14: =D14/$D$56 -> 0.00053564979 | G14: =(D14-B14) -> -57.87503 | H14: =(D14-B14)/B14 -> -0.078036825
A15: Oinordetzen eta dohaintzen gaineko zerga | B15: 453.83212 | C15: =B15/$B$56 -> 0.00034543235 | D15: 3290.0474 | E15: =D15/$D$56 -> 0.0025773765 | G15: =(D15-B15) -> 2836.2152 | H15: =(D15-B15)/B15 -> 6.2494811
A16: Ondarearen gaineko zerga | B16: 2714.9069 | C16: =B16/$B$56 -> 0.0020664396 | D16: 2341.4703 | E16: =D16/$D$56 -> 0.0018342747 | G16: =(D16-B16) -> -373.43661 | H16: =(D16-B16)/B16 -> -0.13755043
A17: Kreditu-entitateen gordailuen gaineko zerga | B17: 1644.8393 | C17: =B17/$B$56 -> 0.0012519623 | D17: 310.04909 | E17: =D17/$D$56 -> 0.00024288807 | G17: =(D17-B17) -> -1334.7903 | H17: =(D17-B17)/B17 -> -0.8115019
A18: Sarien eta loterien gaineko karga
A19: Balioa handitzearen gaineko karga. Sozietateen aktiboak | D19: 5.01867 | E19: =D19/$D$56 -> 3.931555e-06 | G19: =(D19-B19) -> 5.01867
A20: Merkatalgune handien gaineko zerga | D20: 24.26578 | E20: =D20/$D$56 -> 1.9009469e-05 | G20: =(D20-B20) -> 24.26578
A21: Energia elektrikoa ekoiztearen balioaren gaineko zerga | B21: 531.31728 | C21: =B21/$B$56 -> 0.00040440984 | D21: 389.92838 | E21: =D21/$D$56 -> 0.00030546437 | G21: =(D21-B21) -> -141.3889 | H21: =(D21-B21)/B21 -> -0.26611011
A22: ZERGA ZUZENAK GUZTIRA | B22: 302503.03 | C22: =B22/$B$56 -> 0.23024886 | D22: 299586.37 | E22: =D22/$D$56 -> 0.23469172 | G22: =(D22-B22) -> -2916.657 | H22: =(D22-B22)/B22 -> -0.0096417448
A23: BEZaren diru-bilketa zuzena | B23: 902771 | C23: =B23/$B$56 -> 0.68714022 | D23: 874897.15 | E23: =D23/$D$56 -> 0.68538204 | G23: =(D23-B23) -> -27873.846 | H23: =(D23-B23)/B23 -> -0.030875877
A24: Alkoholen gaineko zerga berezia | B24: 159.64769 | C24: =B24/$B$56 -> 0.00012151515 | D24: 106.35088 | E24: =D24/$D$56 -> 8.3313774e-05 | G24: =(D24-B24) -> -53.29681 | H24: =(D24-B24)/B24 -> -0.33384016
A25: Garagarodaren gaineko zerga berezia | B25: 0.36856 | C25: =B25/$B$56 -> 2.8052784e-07 | D25: 0.09196 | E25: =D25/$D$56 -> 7.2040162e-08 | G25: =(D25-B25) -> -0.2766 | H25: =(D25-B25)/B25 -> -0.75048839
A26: Tarteko produktuen zerga berezia | B26: 0.68169 | C26: =B26/$B$56 -> 5.1886538e-07 | D26: 0.21776 | E26: =D26/$D$56 -> 1.705901e-07 | G26: =(D26-B26) -> -0.46393 | H26: =(D26-B26)/B26 -> -0.68055861
A27: Garraiobideen gaineko zerga berezia | B27: 247.76377 | C27: =B27/$B$56 -> 0.00018858432 | D27: 89.21293 | E27: =D27/$D$56 -> 6.9888147e-05 | G27: =(D27-B27) -> -158.55084 | H27: =(D27-B27)/B27 -> -0.63992746
A28: Hidrokarburoen gaineko zerga berezia | B28: 6409.8446 | C28: =B28/$B$56 -> 0.0048788254 | D28: 4519.8745 | E28: =D28/$D$56 -> 0.0035408057 | G28: =(D28-B28) -> -1889.97 | H28: =(D28-B28)/B28 -> -0.29485427
A29: Elektrizitatearen gaineko zerga berezia | B29: 1.18113 | C29: =B29/$B$56 -> 8.9901197e-07 | D29: 34.65453 | E29: =D29/$D$56 -> 2.7147868e-05 | G29: =(D29-B29) -> 33.4734 | H29: =(D29-B29)/B29 -> 28.340149
A30: Tabako-laboreen gaineko zerga berezia
A31: Zerga berezien zeharkako diru-bilketa guztira | B31: 6819.4874 | C31: =B31/$B$56 -> 0.0051906232 | D31: 4750.4026 | E31: =D31/$D$56 -> 0.0037213981 | G31: =(D31-B31) -> -2069.0848 | H31: =(D31-B31)/B31 -> -0.30340768
A32: BEZaren dokuntza fiskala
A33: Alkoholen eta tarteko produktuen doikuntza fiskala | B33: 37473.124 | C33: =B33/$B$56 -> 0.028522506 | D33: 37957.881 | E33: =D33/$D$56 -> 0.029735667 | G33: =(D33-B33) -> 484.7569 | H33: =(D33-B33)/B33 -> 0.012936122
A34: Garagardoaren doikuntza fiskala | B34: 109.0146 | C34: =B34/$B$56 -> 8.2975989e-05 | D34: 5.48555 | E34: =D34/$D$56 -> 4.2973022e-06 | G34: =(D34-B34) -> -103.52905 | H34: =(D34-B34)/B34 -> -0.94968059
A35: Hidrokarburoen doikuntza fiskala | B35: 45851.834 | C35: =B35/$B$56 -> 0.034899924 | D35: 41320.302 | E35: =D35/$D$56 -> 0.032369739 | G35: =(D35-B35) -> -4531.5322 | H35: =(D35-B35)/B35 -> -0.098829902
A36: Tabako-laboren doikuntza fiskala | B36: 8938.3653 | C36: =B36/$B$56 -> 0.0068033979 | G36: =(D36-B36) -> -8938.3653 | H36: =(D36-B36)/B36 -> -1
A37: Zerga-doikuntzak guztira | B37: 92372.338 | C37: =B37/$B$56 -> 0.070308804 | D37: 79283.668 | E37: =D37/$D$56 -> 0.062109704 | G37: =(D37-B37) -> -13088.67 | H37: =(D37-B37)/B37 -> -0.14169469
A38: Ondare-eskualdaketen gaineko zerga | B38: 450.55834 | C38: =B38/$B$56 -> 0.00034294052 | D38: 325.05136 | E38: =D38/$D$56 -> 0.00025464063 | G38: =(D38-B38) -> -125.50698 | H38: =(D38-B38)/B38 -> -0.27855878
A39: Egintza juridiko dokumentatuen gaineko zerga | B39: 181.0115 | C39: =B39/$B$56 -> 0.00013777612 | D39: 5762.7606 | E39: =D39/$D$56 -> 0.0045144651 | G39: =(D39-B39) -> 5581.7491 | H39: =(D39-B39)/B39 -> 30.836434
A40: Aseguru-primen gaineko zerga | B40: 17.5092 | C40: =B40/$B$56 -> 1.3327052e-05 | D40: 21.01994 | E40: =D40/$D$56 -> 1.6466723e-05 | G40: =(D40-B40) -> 3.51074 | H40: =(D40-B40)/B40 -> 0.2005083
A41: Hidrokarburoen txikizkako salmenten gaineko zerga | B41: 5854.0892 | C41: =B41/$B$56 -> 0.0044558146 | D41: 9514.936 | E41: =D41/$D$56 -> 0.0074538662 | G41: =(D41-B41) -> 3660.8468 | H41: =(D41-B41)/B41 -> 0.62534864
A42: Joko-jardueren gaineko zerga | B42: 14.09488 | C42: =B42/$B$56 -> 1.0728257e-05 | D42: 5.84401 | E42: =D42/$D$56 -> 4.5781147e-06 | G42: =(D42-B42) -> -8.25087 | H42: =(D42-B42)/B42 -> -0.58538065
A43: Gas fluoratuen gaineko zerga | D43: 82.99995 | E43: =D43/$D$56 -> 6.5020986e-05 | G43: =(D43-B43) -> 82.99995
A44: Desagertutako zergak
A45: ZEHARKAKO ZERGAK GUZTIR | B45: 1008480.1 | C45: =B45/$B$56 -> 0.76760024 | D45: 974643.83 | E45: =D45/$D$56 -> 0.76352218 | G45: =(D45-B45) -> -33836.252 | H45: =(D45-B45)/B45 -> -0.03355173
A46: ZERGAK GUZTIRA | B46: 1310983.1 | C46: =B46/$B$56 -> 0.9978491 | D46: 1274230.2 | E46: =D46/$D$56 -> 0.99821391 | G46: =(D46-B46) -> -36752.909 | H46: =(D46-B46)/B46 -> -0.028034617
A47: Jokoaren gaineko tasak | B47: 14.61314 | C47: =B47/$B$56 -> 1.1122728e-05 | D47: 76.93121 | E47: =D47/$D$56 -> 6.0266821e-05 | G47: =(D47-B47) -> 62.31807 | H47: =(D47-B47)/B47 -> 4.2645229
A48: Meatzeen azaleraren kanona | B48: 0 | C48: =B48/$B$56 -> 0 | D48: 0.32498 | E48: =D48/$D$56 -> 2.5458473e-07 | G48: =(D48-B48) -> 0.32498
A49: Telefónicaren kanona
A50: Jokorako kartoien salmenta | D50: 0.87173 | E50: =D50/$D$56 -> 6.8290094e-07 | G50: =(D50-B50) -> 0.87173
A51: Zehapen fiskalak | B51: 1967.8839 | C51: =B51/$B$56 -> 0.0014978463 | D51: 1136.3669 | E51: =D51/$D$56 -> 0.00089021375 | G51: =(D51-B51) -> -831.51696 | H51: =(D51-B51)/B51 -> -0.42254372
A52: Berandutze-interesak | B52: 0.28069 | C52: =B52/$B$56 -> 2.1364597e-07 | D52: 1.91064 | E52: =D52/$D$56 -> 1.4967683e-06 | G52: =(D52-B52) -> 1.62995 | H52: =(D52-B52)/B52 -> 5.80694
A53: Premiamendu-gainordainak | B53: 491.50962 | C53: =B53/$B$56 -> 0.00037411041 | D53: 655.30614 | E53: =D53/$D$56 -> 0.00051335756 | G53: =(D53-B53) -> 163.79652 | H53: =(D53-B53)/B53 -> 0.33325191
A54: Beste diru-sarrera batzuk | B54: 351.58342 | C54: =B54/$B$56 -> 0.00026760619 | D54: 408.25639 | E54: =D54/$D$56 -> 0.00031982228 | G54: =(D54-B54) -> 56.67297 | H54: =(D54-B54)/B54 -> 0.16119352
A55: TASAK ETA BESTELAKOAK GUZTIRA | B55: 2825.8707 | C55: =B55/$B$56 -> 0.0021508992 | D55: 2279.968 | E55: =D55/$D$56 -> 0.0017860947 | G55: =(D55-B55) -> -545.90274 | H55: =(D55-B55)/B55 -> -0.19318037
A56: TRIBUTUAK ETA ZERGAK GUZTIRA | B56: 1313809 | C56: =B56/$B$56 -> 1 | D56: 1276510.2 | E56: =D56/$D$56 -> 1 | G56: =(D56-B56) -> -37298.812 | H56: =(D56-B56)/B56 -> -0.028389828

Sheet C14
A1: 14. taula. Zerga-bilketa likidoa. Zerga-figuren araberako laburpena
B3: 2016 | D3: 2017 | G3: 2017/2016 aldakuntza
B4: Zenbatekoa Mila euro | C4: Guztizkoaren % | D4: Zenbatekoa Mila euro | E4: Guztizkoaren % | G4: Zenbatekoa Mila euro | H4: Aldakuntza-tasa
A5: PFEZ | B5: 1178888 | C5: =B5/$B$18 -> 0.3627647 | D5: 1282825.3 | E5: =D5/$D$18 -> 0.348341 | G5: =D5-B5 -> 103937.34 | H5: =(D5-B5)/B5 -> 0.088165573
A6: Sozietateen gaineko zerga | B6: 216198.19 | C6: =B6/$B$18 -> 0.06652801 | D6: 256017.47 | E6: =D6/$D$18 -> 0.069519504 | G6: =D6-B6 -> 39819.276 | H6: =(D6-B6)/B6 -> 0.1841795
A7: Ez-egoiliarren errentaren gaineko zerga | B7: 6394.8829 | C7: =B7/$B$18 -> 0.0019678186 | D7: 5762.3994 | E7: =D7/$D$18 -> 0.0015647336 | G7: =D7-B7 -> -632.48351 | H7: =(D7-B7)/B7 -> -0.098904627
A8: Ondarearen gaineko zerga | B8: 30763.285 | C8: =B8/$B$18 -> 0.0094664073 | D8: 40814.18 | E8: =D8/$D$18 -> 0.011082765 | G8: =D8-B8 -> 10050.894 | H8: =(D8-B8)/B8 -> 0.3267172
A9: Gainerako zeharkako zergak | B9: 79337.852 | C9: =B9/$B$18 -> 0.024413661 | D9: 90575.401 | E9: =D9/$D$18 -> 0.024595029 | G9: =D9-B9 -> 11237.549 | H9: =(D9-B9)/B9 -> 0.14164171
A10: ZEHARKAKO ZERGAK GUZTIRA | B10: 1511582.2 | C10: =B10/$B$18 -> 0.46514059 | D10: 1675994.8 | E10: =D10/$D$18 -> 0.45510303 | G10: =D10-B10 -> 164412.57 | H10: =(D10-B10)/B10 -> 0.10876853
A11: BEZ | B11: 1215643.4 | C11: =B11/$B$18 -> 0.37407499 | D11: 1353220.5 | E11: =D11/$D$18 -> 0.36745625 | G11: =D11-B11 -> 137577.11 | H11: =(D11-B11)/B11 -> 0.11317226
A12: Zerga bereziak | B12: 424154.64 | C12: =B12/$B$18 -> 0.13051989 | D12: 552929.22 | E12: =D12/$D$18 -> 0.15014353 | G12: =D12-B12 -> 128774.59 | H12: =(D12-B12)/B12 -> 0.30360292
A13: Ondare Eskualdaketak eta Egintza Juridiko Dokumentatuak | B13: 52107.951 | C13: =B13/$B$18 -> 0.016034539 | D13: 53882.8 | E13: =D13/$D$18 -> 0.014631445 | G13: =D13-B13 -> 1774.8486 | H13: =(D13-B13)/B13 -> 0.034060993
A14: Gainerako zeharkako zergak | B14: 17235.651 | C14: =B14/$B$18 -> 0.0053037149 | D14: 14613.724 | E14: =D14/$D$18 -> 0.0039682403 | G14: =D14-B14 -> -2621.9275 | H14: =(D14-B14)/B14 -> -0.15212233
A15: ZEHARKAKO ZERGAK GUZTIRA | B15: 1709141.6 | C15: =B15/$B$18 -> 0.52593313 | D15: 1974646.3 | E15: =D15/$D$18 -> 0.53619946 | G15: =D15-B15 -> 265504.62 | H15: =(D15-B15)/B15 -> 0.15534383
A16: ZERGAK GUZTIRA | B16: 3220723.8 | C16: =B16/$B$18 -> 0.99107372 | D16: 3650641 | E16: =D16/$D$18 -> 0.99130249 | G16: =D16-B16 -> 429917.19 | H16: =(D16-B16)/B16 -> 0.13348465
... A18: TRIBUTUAK ETA BESTELAKOAK GUZTIRA | B18: 3249731.9 | C18: =B18/$B$18 -> 1 | D18: 3682671.1 | E18: =D18/$D$18 -> 1 | G18: =D18-B18 -> 432939.26 | H18: =(D18-B18)/B18 -> 0.13322307

Sheet C15
A1: 15. taula. Zerga-bilketa likidoa. Zerga-figuren araberako xehetasuna
B3: 2016 | D3: 2017 | G3: 2017/2016 aldakuntza
B4: Zenbatekoa Mila euro | C4: Guztizkoaren % | D4: Zenbatekoa Mila euro | E4: Guztizkoaren % | G4: Zenbatekoa Mila euro | H4: Alkakuntza-tasa
A5: Laneko atxikipenak | B5: 1116004.5 | C5: =B5/$B$56 -> 0.34341433 | D5: 1177616 | E5: =D5/$D$56 -> 0.31977224 | G5: =(D5-B5) -> 61611.509 | H5: =(D5-B5)/B5 -> 0.055207223
A6: Kapitalaren atxikipenak | B6: 85597.284 | C6: =B6/$B$56 -> 0.026339799 | D6: 86742.581 | E6: =D6/$D$56 -> 0.023554257 | G6: =(D6-B6) -> 1145.2977 | H6: =(D6-B6)/B6 -> 0.013380071
A7: Zatikapenak | B7: 39016.272 | C7: =B7/$B$56 -> 0.012005997 | D7: 43632.638 | E7: =D7/$D$56 -> 0.011848095 | G7: =(D7-B7) -> 4616.3666 | H7: =(D7-B7)/B7 -> 0.11831901
A8: Kuota diferentziala | B8: -61730.047 | C8: =B8/$B$56 -> -0.018995428 | D8: -25165.885 | E8: =D8/$D$56 -> -0.0068335955 | G8: =(D8-B8) -> 36564.162 | H8: =-(D8-B8)/B8 -> 0.59232357
A9: PFEZ guztira | B9: 1178888 | C9: =B9/$B$56 -> 0.3627647 | D9: 1282825.3 | E9: =D9/$D$56 -> 0.348341 | G9: =(D9-B9) -> 103937.34 | H9: =(D9-B9)/B9 -> 0.088165573
A10: Kapitalaren atxikipenak | B10: 36657.304 | C10: =B10/$B$56 -> 0.011280101 | D10: 37126.241 | E10: =D10/$D$56 -> 0.010081335 | G10: =(D10-B10) -> 468.93616 | H10: =(D10-B10)/B10 -> 0.012792434
A11: Konturako ordainketa | B11: 134341.05 | C11: =B11/$B$56 -> 0.04133912 | D11: 133791.45 | E11: =D11/$D$56 -> 0.036330002 | G11: =(D11-B11) -> -549.60357 | H11: =(D11-B11)/B11 -> -0.0040911066
A12: Kuota diferentziala | B12: 45199.835 | C12: =B12/$B$56 -> 0.013908789 | D12: 85099.779 | E12: =D12/$D$56 -> 0.023108167 | G12: =(D12-B12) -> 39899.943 | H12: =(D12-B12)/B12 -> 0.88274532
A13: Sozietateen gaineko Zerga guztira | B13: 216198.19 | C13: =B13/$B$56 -> 0.06652801 | D13: 256017.47 | E13: =D13/$D$56 -> 0.069519504 | G13: =(D13-B13) -> 39819.276 | H13: =(D13-B13)/B13 -> 0.1841795
A14: Ez-egoiliarren errentaren gaineko zerga | B14: 6394.8829 | C14: =B14/$B$56 -> 0.0019678186 | D14: 5762.3994 | E14: =D14/$D$56 -> 0.0015647336 | G14: =(D14-B14) -> -632.48351 | H14: =(D14-B14)/B14 -> -0.098904627
A15: Oinordetzen eta dohaintzen gaineko zerga | B15: 46317.127 | C15: =B15/$B$56 -> 0.0142526 | D15: 43382.852 | E15: =D15/$D$56 -> 0.011780268 | G15: =(D15-B15) -> -2934.275 | H15: =(D15-B15)/B15 -> -0.063351836
A16: Ondarearen gaineko zerga | B16: 30763.285 | C16: =B16/$B$56 -> 0.0094664073 | D16: 40814.18 | E16: =D16/$D$56 -> 0.011082765 | G16: =(D16-B16) -> 10050.894 | H16: =(D16-B16)/B16 -> 0.3267172
A17: Kreditu-entitateen gordailuen gaineko zerga | B17: 3116.2006 | C17: =B17/$B$56 -> 0.00095891006 | D17: 4914.8955 | E17: =D17/$D$56 -> 0.0013346007 | G17: =(D17-B17) -> 1798.695 | H17: =(D17-B17)/B17 -> 0.57720771
A18: Sarien eta loterien gaineko karga | B18: 4982.0776 | C18: =B18/$B$56 -> 0.0015330734 | D18: 13316.479 | E18: =D18/$D$56 -> 0.0036159837 | G18: =(D18-B18) -> 8334.4011 | H18: =(D18-B18)/B18 -> 1.6728766
A19: Balioa handitzearen gaineko karga. Sozietateen aktiboak | B19: 25.47785 | C19: =B19/$B$56 -> 7.8399853e-06 | D19: -5.01867 | E19: =D19/$D$56 -> -1.3627799e-06 | G19: =(D19-B19) -> -30.49652 | H19: =(D19-B19)/B19 -> -1.1969817
A20: Merkatalgune handien gaineko zerga | B20: 3084.7619 | C20: =B20/$B$56 -> 0.00094923583 | D20: 800.86667 | E20: =D20/$D$56 -> 0.00021746896 | G20: =(D20-B20) -> -2283.8953 | H20: =(D20-B20)/B20 -> -0.74037975
... A40: Aseguru-primen gaineko zerga | B40: 20257.983 | C40: =B40/$B$56 -> 0.0062337399 | D40: 20570.021 | E40: =D40/$D$56 -> 0.0055856253 | G40: =(D40-B40) -> 312.03782 | H40: =(D40-B40)/B40 -> 0.015403203
A41: Hidrokarburoen txikizkako salmenten gaineko zerga | B41: -5537.4641 | C41: =B41/$B$56 -> -0.0017039757 | D41: -9288.6802 | E41: =D41/$D$56 -> -0.0025222671 | G41: =(D41-B41) -> -3751.216 | H41: =-(D41-B41)/B41 -> -0.6774249
A42: Joko-jardueren gaineko zerga | B42: 1587.2578 | C42: =B42/$B$56 -> 0.00048842731 | D42: 1919.1877 | E42: =D42/$D$56 -> 0.00052114013 | G42: =(D42-B42) -> 331.92991 | H42: =(D42-B42)/B42 -> 0.20912161
A43: Gas fluoratuen gaineko zerga | B43: 927.87446 | C43: =B43/$B$56 -> 0.00028552339 | D43: 1413.1953 | E43: =D43/$D$56 -> 0.00038374193 | G43: =(D43-B43) -> 485.32087 | H43: =(D43-B43)/B43 -> 0.52304583
A44: Desagertutako zergak
A45: ZEHARKAKO ZERGAK GUZTIR | B45: 1709141.6 | C45: =B45/$B$56 -> 0.52593313 | D45: 1974646.3 | E45: =D45/$D$56 -> 0.53619946 | G45: =(D45-B45) -> 265504.62 | H45: =(D45-B45)/B45 -> 0.15534383
A46: ZERGAK GUZT | B46: 3220723.8 | C46: =B46/$B$56 -> 0.99107372 | D46: 3650641 | E46: =D46/$D$56 -> 0.99130249 | G46: =(D46-B46) -> 429917.19 | H46: =(D46-B46)/B46 -> 0.13348465
A47: Jokoaren gaineko tasak | B47: 8555.9611 | C47: =B47/$B$56 -> 0.0026328207 | D47: 8566.7979 | E47: =D47/$D$56 -> 0.0023262457 | G47: =(D47-B47) -> 10.836805 | H47: =(D47-B47)/B47 -> 0.0012665795
A48: Meatzeen azaleraren kanona | B48: 25.7685 | C48: =B48/$B$56 -> 7.9294235e-06 | D48: 11.18655 | E48: =D48/$D$56 -> 3.0376185e-06 | G48: =(D48-B48) -> -14.58195 | H48: =(D48-B48)/B48 -> -0.56588276
A49: Telefónicaren kanona | B49: 69.26517 | C49: =B49/$B$56 -> 2.1314119e-05 | D49: 130.97859 | E49: =D49/$D$56 -> 3.5566193e-05 | G49: =(D49-B49) -> 61.71342 | H49: =(D49-B49)/B49 -> 0.89097334
A50: Jokorako kartoien salmenta | B50: 54.48332 | C50: =B50/$B$56 -> 1.6765482e-05 | D50: 54.74491 | E50: =D50/$D$56 -> 1.4865544e-05 | G50: =(D50-B50) -> 0.26159 | H50: =(D50-B50)/B50 -> 0.004801286
A51: Zehapen fiskalak | B51: 9366.0179 | C51: =B51/$B$56 -> 0.0028820895 | D51: 10887.992 | E51: =D51/$D$56 -> 0.0029565474 | G51: =(D51-B51) -> 1521.9738 | H51: =(D51-B51)/B51 -> 0.16249956
A52: Berandutze-interesak | B52: 3829.2272 | C52: =B52/$B$56 -> 0.001178321 | D52: 4116.237 | E52: =D52/$D$56 -> 0.0011177314 | G52: =(D52-B52) -> 287.00977 | H52: =(D52-B52)/B52 -> 0.074952399
A53: Premiamendu-gainordainak | B53: 5761.285 | C53: =B53/$B$56 -> 0.0017728493 | D53: 7028.9424 | E53: =D53/$D$56 -> 0.0019086533 | G53: =(D53-B53) -> 1267.6574 | H53: =(D53-B53)/B53 -> 0.22003033
A54: Beste diru-sarrera batzuk | B54: 1346.0007 | C54: =B54/$B$56 -> 0.00041418823 | D54: 1233.198 | E54: =D54/$D$56 -> 0.00033486509 | G54: =(D54-B54) -> -112.80269 | H54: =(D54-B54)/B54 -> -0.083805821
A55: TASAK ETA BESTELAKOAK GUZTIRA | B55: 29008.009 | C55: =B55/$B$56 -> 0.0089262777 | D55: 32030.077 | E55: =D55/$D$56 -> 0.0086975122 | G55: =(D55-B55) -> 3022.0682 | H55: =(D55-B55)/B55 -> 0.10418048
A56: TRIBUTUAK ETA BESTELAKOAK GUZTIRA | B56: 3249731.9 | C56: =B56/$B$56 -> 1 | D56: 3682671.1 | E56: =D56/$D$56 -> 1 | G56: =(D56-B56) -> 432939.26 | H56: =(D56-B56)/B56 -> 0.13322307

Sheet G16
A1: 16. grafikoa. Zerga-bilketa likidoa. Kudeaketa zuzena/doikuntza fiskala portzentajea
B25: 2016 | C25: 2017
B26: Zenbatekoa Mila euro | C26: Zenbatekoa Mila euro
A27: Kudeaketa zuzenaren bidezko bilketa | B27: =B29-B28 -> 2449196.3 | C27: =C29-C28 -> 2679701.3
A28: Doikuntza fiskalak | B28: 800535.6 | C28: ='C15'!D37 -> 1002969.8
A29: Diru-bilketa guztira | B29: 3249731.9 | C29: ='C15'!D56 -> 3682671.1

Sheet C17
A1: 17. taula. Zerga-bilketa. Araudi-aldaketen eraginengatiko doikuntzak
B3: Eragin negatiboa | C3: Eragin positiboa | D3: Saldoa guztira
A4: IRPF 2015eko PFEZaren kuota diferentziala | C4: 49671620
A5: 2015eko ondarearen gaineko zerga | C5: 8394278.8
A6: Sozietateen gaineko Zergaren kuota diferentziala 2015 (kuota positiboak) | C6: 21544647
A7: Erreforma guztira 2015 | B7: =SUM(B4:B6) -> 0 | C7: =SUM(C4:C6) -> 79610546 | D7: =C7-B7 -> 79610546
A8: BEZa aldatzea doitzea | C8: 9436761
A9: Hidrokarburoen zerga aldatzea doitzea | C9: 63376473
A10: 2017ko Hitzarmen Ekonomikoko Guztizko Akordioak | B10: =SUM(B8:B9) -> 0 | C10: =SUM(C8:C9) -> 72813234 | D10: =C10-B10 -> 72813234
A11: Azalera handien zerga ezabatzea | B11: 2288302.3
A12: OE eta EJD aldatzea | C12: 707957.32
A13: Alkoholaren eta tabakoaren gaineko zerga-tasak handitzea | C13: 3000000
A14: Beste zerga-aldaketa batzuk | B14: =SUM(B11:B13) -> 2288302.3 | C14: =SUM(C11:C13) -> 3707957.3 | D14: =C14-B14 -> 1419655
A15: GUZTIRA | B15: =B7+B10+B14 -> 2288302.3 | C15: =C7+C10+C14 -> 1.5613174e+08 | D15: =C15-B15 -> 1.5384344e+08

Sheet C18
A1: 18. taula. Zorren bilakaera eta egoera, zor-tarteen arabera
B3: 2016/12/31 | E3: 2016/12/31 | I3: Daten arteko aldakuntza
A4: ZOR-TARTEAK | B4: Zordunak Kopurua | C4: Zenbatekoa Mila euro | D4: Guztizko zorraren % | E4: Zordunak Kopurua | F4: Zenbatekoa Mila euro | G4: Guztizko zorraren % | I4: Zordunak Kopurua | J4: Zenbatekoa Mila euro | K4: Aldakuntza-tasa
A5: 600.000 euro baino gehiago | B5: 128 | C5: 195685 | D5: =C5/$C$19 -> 0.38819457 | E5: 127 | F5: 189369 | G5: =F5/$F$19 -> 0.3688937 | I5: =E5-B5 -> -1 | J5: =F5-C5 -> -6316 | K5: =J5/C5 -> -0.032276363
A6: 300.000 eta 600.000 euro artean | B6: 175 | C6: 72830 | D6: =C6/$C$19 -> 0.14447817 | E6: 183 | F6: 76213 | G6: =F6/$F$19 -> 0.14846409 | I6: =E6-B6 -> 8 | J6: =F6-C6 -> 3383 | K6: =J6/C6 -> 0.046450638
A7: 150.000 eta 300.000 euro artean | B7: 323 | C7: 65909 | D7: =C7/$C$19 -> 0.13074848 | E7: 325 | F7: 67114 | G7: =F7/$F$19 -> 0.1307391 | I7: =E7-B7 -> 2 | J7: =F7-C7 -> 1205 | K7: =J7/C7 -> 0.018282784
A8: 90.000 eta 150.000 euro artean | B8: 373 | C8: 43149 | D8: =C8/$C$19 -> 0.08559781 | E8: 391 | F8: 45103 | G8: =F8/$F$19 -> 0.087861332 | I8: =E8-B8 -> 18 | J8: =F8-C8 -> 1954 | K8: =J8/C8 -> 0.045284943
A9: 60.000 eta 90.000 euro artean | B9: 388 | C9: 28406 | D9: =C9/$C$19 -> 0.056351048 | E9: 390 | F9: 28448 | G9: =F9/$F$19 -> 0.055417138 | I9: =E9-B9 -> 2 | J9: =F9-C9 -> 42 | K9: =J9/C9 -> 0.0014785609
A10: 30.000 eta 60.000 euro artean | B10: 796 | C10: 34153 | D10: =C10/$C$19 -> 0.06775179 | E10: 850 | F10: 36511 | G10: =F10/$F$19 -> 0.071123985 | I10: =E10-B10 -> 54 | J10: =F10-C10 -> 2358 | K10: =J10/C10 -> 0.069042251
A11: 6.000 eta 30.000 euro artean | B11: 3055 | C11: 41436 | D11: =C11/$C$19 -> 0.082199607 | E11: 3325 | F11: 44290 | G11: =F11/$F$19 -> 0.086277596 | I11: =E11-B11 -> 270 | J11: =F11-C11 -> 2854 | K11: =J11/C11 -> 0.068877305
A12: 1.200 eta 6.000 euro artean | B12: 2229 | C12: 9483 | D12: =C12/$C$19 -> 0.018812117 | E12: 2982 | F12: 12801 | G12: =F12/$F$19 -> 0.024936543 | I12: =E12-B12 -> 753 | J12: =F12-C12 -> 3318 | K12: =J12/C12 -> 0.34988928
A13: 600 eta 1.200 euro artean | B13: 7512 | C13: 11103 | D13: =C13/$C$19 -> 0.022025829 | E13: 8051 | F13: 11625 | G13: =F13/$F$19 -> 0.022645677 | I13: =E13-B13 -> 539 | J13: =F13-C13 -> 522 | K13: =J13/C13 -> 0.04701432
A14: 300 eta 600 euro artean | B14: 3325 | C14: 1404 | D14: =C14/$C$19 -> 0.0027852169 | E14: 3149 | F14: 1330 | G14: =F14/$F$19 -> 0.0025908603 | I14: =E14-B14 -> -176 | J14: =F14-C14 -> -74 | K14: =J14/C14 -> -0.052706553
A15: 120 eta 300 euro artean | B15: 2011 | C15: 409 | D15: =C15/$C$19 -> 0.00081136305 | E15: 2016 | F15: 411 | G15: =F15/$F$19 -> 0.00080063427 | I15: =E15-B15 -> 5 | J15: =F15-C15 -> 2 | K15: =J15/C15 -> 0.0048899756
A16: 60 eta 120 euro artean | B16: 882 | C16: 78 | D16: =C16/$C$19 -> 0.00015473427 | E16: 915 | F16: 81 | G16: =F16/$F$19 -> 0.00015778924 | I16: =E16-B16 -> 33 | J16: =F16-C16 -> 3 | K16: =J16/C16 -> 0.038461538
... A18: 30 euro baino gutxiago | B18: 1382 | C18: 13 | D18: =C18/$C$19 -> 2.5789046e-05 | E18: 1298 | F18: 14 | G18: =F18/$F$19 -> 2.7272214e-05 | I18: =E18-B18 -> -84 | J18: =F18-C18 -> 1 | K18: =J18/C18 -> 0.076923077
A19: GUZTIRA | B19: =SUM(B5:B18) -> 23288 | C19: =SUM(C5:C18) -> 504090 | D19: =C19/$C$19 -> 1 | E19: =SUM(E5:E18) -> 24742 | F19: =SUM(F5:F18) -> 513343 | G19: =F19/$F$19 -> 1 | I19: =E19-B19 -> 1454 | J19: =F19-C19 -> 9253 | K19: =J19/C19 -> 0.018355849

Sheet C19
A1: 19. taula. Zorren bilakaera eta egoera, IFZren inizialaren arabera
B3: 2016/31/12 | E3: 2017/12/31 | I3: Daten arteko aldakuntza
B4: Zordunak Kopurua | C4: Zenbatekoa Mila euro | D4: Guztizko zorraren % | E4: Zordunak Kopurua | F4: Zenbatekoa Mila euro | G4: Guztizko zorraren % | I4: Zordunak Kopurua | J4: Zenbatekoa Mila euro | K4: Aldakuntza-tasa
A5: A-SOZIETATE ANONIMOAK | B5: 481 | C5: 75318 | D5: =C5/$C$27 -> 0.14941439 | E5: 500 | F5: 74757 | G5: =F5/$F$27 -> 0.14562778 | I5: =E5-B5 -> 19 | J5: =F5-C5 -> -561 | K5: =J5/C5 -> -0.0074484187
A6: B-SOZIETATE MUGATUAK | B6: 5613 | C6: 303066 | D6: =C6/$C$27 -> 0.60121645 | E6: 6135 | F6: 305833 | G6: =F6/$F$27 -> 0.59576735 | I6: =E6-B6 -> 522 | J6: =F6-C6 -> 2767 | K6: =J6/C6 -> 0.0091300245
A7: C-SOZIETATE KOLEKTIBOAK | B7: 2 | D7: =C7/$C$27 -> 0 | E7: 2 | F7: 1 | G7: =F7/$F$27 -> 1.9480153e-06 | I7: =E7-B7 -> 0 | J7: =F7-C7 -> 1
A8: E-ONDASUN-ERKIDEGOAK | B8: 1152 | C8: 37729 | D8: =C8/$C$27 -> 0.074846059 | E8: 1652 | F8: 46023 | G8: =F8/$F$27 -> 0.089653507 | I8: =E8-B8 -> 500 | J8: =F8-C8 -> 8294 | K8: =J8/C8 -> 0.2198309
A9: F-SOZIETATE KOOPERATIBOAK | B9: 130 | C9: 2619 | D9: =C9/$C$27 -> 0.0051955214 | E9: 161 | F9: 2507 | G9: =F9/$F$27 -> 0.0048836743 | I9: =E9-B9 -> 31 | J9: =F9-C9 -> -112 | K9: =J9/C9 -> -0.042764414
A10: G-ELKARTEAK ETA BESTELAKOAK | B10: 124 | C10: 1764 | D10: =C10/$C$27 -> 0.003499389 | E10: 134 | F10: 1575 | G10: =F10/$F$27 -> 0.003068124 | I10: =E10-B10 -> 10 | J10: =F10-C10 -> -189 | K10: =J10/C10 -> -0.10714286
A11: H-JABEKIDEAK | B11: 27 | C11: 12 | D11: =C11/$C$27 -> 2.3805367e-05 | E11: 28 | F11: 11 | G11: =F11/$F$27 -> 2.1428168e-05 | I11: =E11-B11 -> 1 | J11: =F11-C11 -> -1 | K11: =J11/C11 -> -0.083333333
A12: J-EZEZAGUNA | B12: 404 | C12: 2517 | D12: =C12/$C$27 -> 0.0049931758 | E12: 140 | F12: 1694 | G12: =F12/$F$27 -> 0.0032999379 | I12: =E12-B12 -> -264 | J12: =F12-C12 -> -823 | K12: =J12/C12 -> -0.32697656
A13: K-TXIKIAK | B13: 6 | C13: 1 | D13: =C13/$C$27 -> 1.9837806e-06 | E13: 6 | F13: 2 | G13: =F13/$F$27 -> 3.8960305e-06 | I13: =E13-B13 -> 0 | J13: =F13-C13 -> 1 | K13: =J13/C13 -> 1
A14: L-EZEZAGUNA | B14: 8 | C14: 1 | D14: =C14/$C$27 -> 1.9837806e-06 | E14: 9 | F14: 2 | G14: =F14/$F$27 -> 3.8960305e-06 | I14: =E14-B14 -> 1 | J14: =F14-C14 -> 1 | K14: =J14/C14 -> 1
A15: M-EZEZAGUNA | B15: 200 | C15: 153 | D15: =C15/$C$27 -> 0.00030351843 | E15: 231 | F15: 154 | G15: =F15/$F$27 -> 0.00029999435 | I15: =E15-B15 -> 31 | J15: =F15-C15 -> 1 | K15: =J15/C15 -> 0.0065359477
A16: N-EZEZAGUNA | B16: 26 | C16: 191 | D16: =C16/$C$27 -> 0.0003789021 | E16: 29 | F16: 55 | G16: =F16/$F$27 -> 0.00010714084 | I16: =E16-B16 -> 3 | J16: =F16-C16 -> -136 | K16: =J16/C16 -> -0.71204188
A17: P-TOKIKO KORPORAZIOAK | B17: 4 | C17: 51 | D17: =C17/$C$27 -> 0.00010117281 | E17: 4 | F17: 27 | G17: =F17/$F$27 -> 5.2596412e-05 | I17: =E17-B17 -> 0 | J17: =F17-C17 -> -24 | K17: =J17/C17 -> -0.47058824
A18: Q-KONGR. ERLIJIOSOEN ERAK. AUT. | B18: 2 | C18: 24 | D18: =C18/$C$27 -> 4.7610735e-05 | E18: 3 | F18: 4 | G18: =F18/$F$27 -> 7.7920611e-06 | I18: =E18-B18 -> 1 | J18: =F18-C18 -> -20 | K18: =J18/C18 -> -0.83333333
A19: R-EZEZAGUNA | B19: 2 | D19: =C19/$C$27 -> 0 | E19: 2 | F19: 1 | G19: =F19/$F$27 -> 1.9480153e-06 | I19: =E19-B19 -> 0 | J19: =F19-C19 -> 1
A20: S-NAFARR. GOB. ADMINIST. ERAK. | D20: =C20/$C$27 -> 0 | E20: 1 | F20: 1 | G20: =F20/$F$27 -> 1.9480153e-06 | I20: =E20-B20 -> 1 | J20: =F20-C20 -> 1
A21: U-EZEZAGUNA | B21: 28 | C21: 11967 | D21: =C21/$C$27 -> 0.023739903 | E21: 32 | F21: 9104 | G21: =F21/$F$27 -> 0.017734731 | I21: =E21-B21 -> 4 | J21: =F21-C21 -> -2863 | K21: =J21/C21 -> -0.23924125
A22: V-EZEZAGUNA | B22: 62 | C22: 253 | D22: =C22/$C$27 -> 0.00050189649 | E22: 87 | F22: 272 | G22: =F22/$F$27 -> 0.00052986015 | I22: =E22-B22 -> 25 | J22: =F22-C22 -> 19 | K22: =J22/C22 -> 0.075098814
A23: W-EZEZAGUNA | B23: 8 | C23: 19 | D23: =C23/$C$27 -> 3.7691832e-05 | E23: 12 | F23: 56 | G23: =F23/$F$27 -> 0.00010908885 | I23: =E23-B23 -> 4 | J23: =F23-C23 -> 37 | K23: =J23/C23 -> 1.9473684
A24: X-EZEZAGUNA | B24: 3485 | C24: 8125 | D24: =C24/$C$27 -> 0.016118217 | E24: 3354 | F24: 9080 | G24: =F24/$F$27 -> 0.017687979 | I24: =E24-B24 -> -131 | J24: =F24-C24 -> 955 | K24: =J24/C24 -> 0.11753846
A25: Y-EZEZAGUNA | B25: 436 | C25: 1090 | D25: =C25/$C$27 -> 0.0021623209 | E25: 561 | F25: 1285 | G25: =F25/$F$27 -> 0.0025031996 | I25: =E25-B25 -> 125 | J25: =F25-C25 -> 195 | K25: =J25/C25 -> 0.17889908
A26: GAINERAKOAK | B26: 11088 | C26: 59188 | D26: =C26/$C$27 -> 0.11741601 | E26: 11659 | F26: 60899 | G26: =F26/$F$27 -> 0.11863218 | I26: =E26-B26 -> 571 | J26: =F26-C26 -> 1711 | K26: =J26/C26 -> 0.028907887
A27: GUZTIRA | B27: =SUM(B5:B26) -> 23288 | C27: =SUM(C5:C26) -> 504088 | D27: =C27/$C$27 -> 1 | E27: =SUM(E5:E26) -> 24742 | F27: =SUM(F5:F26) -> 513343 | G27: =F27/$F$27 -> 1 | I27: =E27-B27 -> 1454 | J27: =F27-C27 -> 9255 | K27: =J27/C27 -> 0.01835989

Sheet G20
A1: 20. grafikoa. Administrazio-arretaren moten grafikoa
B31: Arreta mota (ehunekotan)
A32: Ziurtagiriak/ez-betetzeak/errekerimenduak ematea | B32: 0.3583
A33: Oinordetzen, Ondare Eskualdaketen eta Egintza Juridiko Dokumentatuen gaineko Zergen autolikidazioak biltzea eta horiei buruzko informazioa ematea | B33: 0.2439
A34: Diru-bilketa arrunta eta exekutiboa | B34: 0.1065
A35: PFEZari buruzko kontsulta orokorrak (proposamenak, PINak, itzulketak, likidazioak) | B35: 0.0755
A36: Datu-baseak (IFZ, altak, bajak, aldaketak) | B36: 0.0552
A37: Zergei, epeei eta abarri buruzko informazioa | B37: 0.0261
A38: Sinadura digitalarekin loturiko gaiak | B38: 0.0243
A39: Matrikulazio-zergaren autolikidazioak | B39: 0.0104
A40: Beste kontzeptu batzuk | B40: 0.0998

Sheet G21
A1: 21. grafikoa. Aurrez aurreko administrazio-arreta. Artatutako pertsonen denbora-bilakaera
A26: Urtea | B26: Artatutako pertsonak
A27: 2009 | B27: 86679
A28: 2010 | B28: 76275
A29: 2011 | B29: 75838
A30: 2012 | B30: 70229
A31: 2013 | B31: 76655
A32: 2014 | B32: 75449
A33: 2015 | B33: 71759
A34: 2016 | B34: 70153
A35: 2017 | B35: 67654

Sheet G22
A1: 22. grafikoa. Zerga-teknikariaren aurrez aurreko arreta. Artatutako pertsonen denbora-bilakaera
A25: Urtea | B25: Artatutako pertsonak
A26: 2009 | B26: 14908
A27: 2010 | B27: 15668
A28: 2011 | B28: 13556
A29: 2012 | B29: 14643
A30: 2013 | B30: 15229
A31: 2014 | B31: 16659
A32: 2015 | B32: 16114
A33: 2016 | B33: 15926
A34: 2017 | B34: 17460

Sheet C23
A1: 23. taula. Aurrez aurreko arretak kontzeptuen arabera
A3: Zerga/Kontzeptua | B3: Leihatilako aurrez aurreko arreta kop. | C3: Leihatilako arreta guztien % | E3: Aldez aurreko hitzordua Entitate laguntzaileen unitateak | F3: Hitzordu guztien % | H3: Arreten kop. Guztira | I3: Hitzordu guztien %
A4: PFEZ eta ondarea | B4: 7002 | C4: =B4/$B$16 -> 0.36059326 | E4: 159 | F4: =E4/$E$16 -> 0.21228304 | H4: =B4+E4 -> 7161 | I4: =H4/$H$16 -> 0.35508504
A5: BEZ | B5: 5180 | C5: =B5/$B$16 -> 0.2667628 | E5: 172 | F5: =E5/$E$16 -> 0.22963952 | H5: =B5+E5 -> 5352 | I5: =H5/$H$16 -> 0.26538404
A6: Sozietateak | B6: 370 | C6: =B6/$B$16 -> 0.019054486 | E6: 187 | F6: =E6/$E$16 -> 0.24966622 | H6: =B6+E6 -> 557 | I6: =H6/$H$16 -> 0.027619378
A7: Ez-egoiliarren errenta | B7: 295 | C7: =B7/$B$16 -> 0.01519209 | E7: 17 | F7: =E7/$E$16 -> 0.022696929 | H7: =B7+E7 -> 312 | I7: =H7/$H$16 -> 0.015470819
A8: Ondare-eskualdaketak eta egintza juridiko dokumentatuak | B8: 1227 | C8: =B8/$B$16 -> 0.063188794 | E8: 59 | F8: =E8/$E$16 -> 0.078771696 | H8: =B8+E8 -> 1286 | I8: =H8/$H$16 -> 0.063767541
A9: Oinordetzak eta dohaintzak | B9: 1441 | C9: =B9/$B$16 -> 0.074209496 | E9: 32 | F9: =E9/$E$16 -> 0.042723632 | H9: =B9+E9 -> 1473 | I9: =H9/$H$16 -> 0.073040115
A10: Bereziak | B10: 190 | C10: =B10/$B$16 -> 0.0097847358 | E10: 9 | F10: =E10/$E$16 -> 0.012016021 | H10: =B10+E10 -> 199 | I10: =H10/$H$16 -> 0.0098676055
A11: Diru-bilketa | B11: 502 | C11: =B11/$B$16 -> 0.025852302 | E11: 44 | F11: =E11/$E$16 -> 0.058744993 | H11: =B11+E11 -> 546 | I11: =H11/$H$16 -> 0.027073933
A12: Ez-betetz./Errek./Ziurt. | B12: 420 | C12: =B12/$B$16 -> 0.021629416 | F12: =E12/$E$16 -> 0 | H12: =B12+E12 -> 420 | I12: =H12/$H$16 -> 0.020826102
A13: Erroldak/Entitateen errolda/IFZ | B13: 318 | C13: =B13/$B$16 -> 0.016376558 | F13: =E13/$E$16 -> 0 | H13: =B13+E13 -> 318 | I13: =H13/$H$16 -> 0.015768334
A14: Informazio-ereduak | B14: 302 | C14: =B14/$B$16 -> 0.01555258 | F14: =E14/$E$16 -> 0 | H14: =B14+E14 -> 302 | I14: =H14/$H$16 -> 0.014974959
A15: Beste batzuk | B15: 2171 | C15: =B15/$B$16 -> 0.11180348 | E15: 70 | F15: =E15/$E$16 -> 0.093457944 | H15: =B15+E15 -> 2241 | I15: =H15/$H$16 -> 0.11112213
A16: Guztira | B16: =SUM(B4:B15) -> 19418 | C16: =B16/$B$16 -> 1 | E16: =SUM(E4:E15) -> 749 | F16: =E16/$E$16 -> 1 | H16: =SUM(H4:H15) -> 20167 | I16: =H16/$H$16 -> 1

Sheet G24
A1: 24. grafikoa. Jasotako deien denbora-bilakaera
A26: Urtea | B26: Jasotako deiak
A27: 2009 | B27: 211853
A28: 2010 | B28: 207792
A29: 2011 | B29: 196404
A30: 2012 | B30: 219248
A31: 2013 | B31: 236699
A32: 2014 | B32: 211105
A33: 2015 | B33: 186996
A34: 2016 | B34: 154893
A35: 2017 | B35: 156929

Sheet G25
A1: 25. grafikoa. Egunero artatutako telefono-deien denbora-bilakaera
A30: Urtea | B30: Egunero artatutako deiak
A31: 2009 | B31: 835
A32: 2010 | B32: 831
A33: 2011 | B33: 790
A34: 2012 | B34: 874
A35: 2013 | B35: 936
A36: 2014 | B36: 845
A37: 2015 | B37: 729
A38: 2016 | B38: 728
A39: 2017 | B39: 721

Sheet C26
A1: 26. taula. Telefonogunetik bideratutako deiak unitatearen arabera
A3: Unitatea | B3: Bideratutako deien kop. | C3: Eguneko batezbestekoa | D3: Artatutakoen % | E3: Artatu gabeen %
A4: PFEZ eta ondarea | B4: 14907 | C4: 61 | D4: 78.67 | E4: 21.33
A5: BEZ | B5: 12750 | C5: 52 | D5: 79.22 | E5: 20.78
A6: Oinordetzak eta ondare-eskualdaketak (e-mail) | B6: 1611 | C6: 7 | D6: - | E6: -
A7: Zerga bereziak (e-mail) | B7: 1551 | C7: 6 | D7: - | E7: -
A8: Sozietateen gaineko Zerga (*) | B8: 494 | C8: 45 | D8: 73.28 | E8: 26.72
A9: Sozietateen gaineko Zerga (e-mail) | B9: 1849 | C9: 8 | D9: - | E9: -
A10: Enpresa handiak (e-mail) | B10: 1805 | C10: 7 | D10: - | E10: -
A11: Errenta eta Ondarearen kanpaina (**) | B11: 7492 | C11: 118 | D11: 86.07 | E11: 13.93
A12: Zergadunarenganako arreta (e-mail) | B12: 3532 | C12: 14 | D12: - | E12: -
A13: Errentarako hitzorduak (kanpainatik kanpo) | B13: 1200 | C13: 7 | D13: - | E13: -
A14: Beste batzuk | B14: 558 | C14: 2 | D14: - | E14: -
A15: Guztira | B15: 47749
A17: (**) Sozietateen epea (uztailaren 11tik 26ra). Epe horretan ezin da erabili posta elektronikoaren sistema; deiak bakarrik transferitzen dira zuzenean.
A18: (**) PFEZaren eta Ondarearen kanpaina (apirila, maiatza eta ekaina)

Sheet G27
A1: 27. grafikoa. Aurrez aurreko eta telefono bidezko arretaren banaketa hilabeteka
A30: Hilabetea | B30: Aurrez aurreko arreta | C30: Telefono bidezko arreta
A31: Urtarrila | B31: 15626 | C31: 13819
A32: Otsaila | B32: 15152 | C32: 10887
A33: Martxoa | B33: 15104 | C33: 11729
A34: Apirila | B34: 16089 | C34: 17559
A35: Maiatza | B35: 20494 | C35: 21165
A36: Ekaina | B36: 16693 | C36: 19789
A37: Uztaila | B37: 9877 | C37: 10794
A38: Abuztua | B38: 11818 | C38: 9782
A39: Iraila | B39: 11759 | C39: 8718
A40: Urria | B40: 13891 | C40: 11057
A41: Azaroa | B41: 11582 | C41: 11742
A42: Abendua | B42: 8958 | C42: 9488

Sheet G28
A1: 28. grafikoa. Posta elektroniko bidezko bilakaera
A28: Urtea | B28: Jasotako mezuak
A29: 2009 | B29: 6737
A30: 2010 | B30: 6545
A31: 2011 | B31: 9210
A32: 2012 | B32: 10572
A33: 2013 | B33: 13995
A34: 2014 | B34: 13941
A35: 2015 | B35: 15192
A36: 2016 | B36: 15653
A37: 2017 | B37: 16637

Sheet G29
A1: 29. grafikoa. Laguntzaileen postontziaren bidezko arreta
A28: Urtea | B28: Arreta-kop.
A29: 2009 | B29: 2411
A30: 2010 | B30: 2595
A31: 2011 | B31: 3272
A32: 2012 | B32: 4109
A33: 2013 | B33: 5322
A34: 2014 | B34: 5110
A35: 2015 | B35: 4552
A36: 2016 | B36: 3836
A37: 2017 | B37: 3998

Sheet G30
A1: 30. grafikoa. Erregistratutako dokumentuak, helmugako unitatearen arabera
A34: Unitatea | B34: Kopurua
A35: Diru-bilketa Zerbitzua | B35: 5951
A36: Errentaren eta Ondarearen gaineko Zergak Kudeatzeko Zerbitzua | B36: 6340
A37: Zerga Kudeaketa Zerbitzua | B37: 2910
A38: Zergadunari Laguntza eta Argibideak Emateko Zerbitzua | B38: 2842
A39: Lur Ondasunen eta Ondare Zergen Zerbitzua | B39: 1158
A40: Nafarroako Zerga Ogasuneko beste unitate batzuk | B40: 425
A41: Ogasuneko eta Finantza Politikako Departamentuko beste unitate batzuk | B41: 895
A42: Beste departamentu batzuk | B42: 5572
A43: Guztira | B43: =SUM(B35:B42) -> 26093

Sheet G31
A1: 31. grafikoa. Erregistratutako dokumentuen denbora-bilakaera
A30: Urtea | B30: Jasotako dokumentuak | C30: Beste sail batzuetarako dokumentuak
A31: 2009 | B31: 59133 | C31: 17397
A32: 2010 | B32: 56345 | C32: 17374
A33: 2011 | B33: 43200 | C33: 10183
A34: 2012 | B34: 39992 | C34: 7664
A35: 2013 | B35: 37727 | C35: 6255
A36: 2014 | B36: 40584 | C36: 7428
A37: 2015 | B37: 30677 | C37: 6538
A38: 2016 | B38: 32020 | C38: 7062
A39: 2017 | B39: 26093 | C39: 5572

Sheet C32
A1: 32. taula. Web atariko direktorio ikusienak. Sarrera kopurua
A3: Direktorio ikusienak | C3: Sarrera kop.
A4: Ogasunaren orrialde nagusia | C4: 1644408
A5: Inprimakien sorgailua | C5: 327796
A6: Zerga-araudia | C6: 326821
A7: Galdera ohikoenak | C7: 157281
A8: Laguntza-programak | C8: 128383
A9: Laguntza-eskuliburuak | C9: 122284
A10: Enpresariak eta profesionalak | B10: 34491
A11: Egiaztapenerako erakundeak | B11: 32679
A12: Herritarrak | B12: 28444
A13: Erakunde laguntzaileak | B13: 26670
A14: Zergadunaren egutegia | C14: 71394
A15: Ogasunaren egitura organikoa: zerbitzuak | C15: 57975

Sheet C33
A1: 33. taula. Emandako ziurtagiri motak
A3: Eredua | B3: Kopurua
A4: Zerga-betebeharren jakinaren gainean egotea | B4: 130815
A5: Zerga-betebeharren jakinaren gainean ez egotea (*) | B5: 49279
A6: Zerga-betebeharren jakinaren gainean egotea (kontratistak) | B6: 35676
A7: Ekonomia Jardueren gaineko Zerga (EJZ) - historia- | B7: 14431
A8: Ekonomia Jardueren gaineko Zerga (EJZ) | B8: 12978
A9: Ohiko etxebizitzaren kenkaria | B9: 6592
A10: BEZean tributatzeko erregimena | B10: 4897
A11: BEZeko subjektu pasiboaren izaera | B11: 4865
A12: Konturako atxikipenak (190 eredua) | B12: 4205
A13: PFEZaren zerga- eta likidazio-oinarriak | B13: 4014
A14: Egoitza fiskala Espainian | B14: 2243
A15: Itzultzeke dauden saldoak | B15: 1786
A16: IFZgatiko zorrak (**) | B16: 437
A17: GUZTIRA | B17: =B4+SUM(B6:B16) -> 222939
A19: (*) Eskatzaileak baldintzak ez betetzeagatik ukatu diren "jakinaren gainean egotearen" ziurtagirien kopurua adierazten du
A20: (**) 2017ko abuztuan, ziurtagiriaren eredu berri bat sartu zen, zergadunak Nafarroako Gobernuarekin edozein kontzepturengatik dituen zorrak adierazten dituena

Sheet G34
A1: 34. grafikoa. Aitorpenen aurkezpen telematikoaren bilakaera
A31: Urtea | B31: BEZ | C31: Zatikapenak | D31: Erkidego barneko eragiketak laburtzekoak | E31: Informaziokoak | F31: Sozietateak
A32: 2009 | B32: 139298 | C32: 48019 | D32: 11313 | E32: 74083 | F32: 17454
A33: 2010 | B33: 155555 | C33: 49976 | D33: 16241 | E33: 93924 | F33: 17852
A34: 2011 | B34: 158799 | C34: 52600 | D34: 20904 | E34: 99132 | F34: 18416
A35: 2012 | B35: 160883 | C35: 54438 | D35: 21534 | E35: 99711 | F35: 18042
A36: 2013 | B36: 166124 | C36: 58345 | D36: 23760 | E36: 100895 | F36: 19090
A37: 2014 | B37: 165166 | C37: 63305 | D37: 23561 | E37: 101111 | F37: 18005
A38: 2015 | B38: 169888 | C38: 67411 | D38: 25186 | E38: 104491 | F38: 18631
A39: 2016 | B39: 175821 | C39: 70118 | D39: 25707 | E39: 109620 | F39: 18652
A40: 2017 | B40: 179378 | C40: 71775 | D40: 27402 | E40: 117016 | F40: 18540

Sheet C35
A1: 35. taula. Aitorpen telematikoen portzentajea, ereduen eta aurreko urtearekiko gorakadaren arabera
A3: Eredua | B3: Kontzeptua | C3: Telematikoen portzentajea | D3: Urteko aldakuntzaren %
A4: H70 | B4: Etxebizitza-sustatzaileek jasotako zenbatekoak | C4: 100 | D4: 1.57
A5: 190 | B5: Laneko atxikipenen eta atxikipen profesionalen urteko aitorpena (*) | C5: 100 | D5: 6.47
A6: O4 | B6: Derrigorrezko liburuei buruzko komunikazioa | C6: 93.05 | D6: 0.9
A7: F50 | B7: Hirugarrenenko eragiketak | C7: 89.05 | D7: 3.51
A8: 309 | B8: Ezohiko BEZa | C8: 86.75 | D8: -1.42
A9: F69 | B9: Aldizkako BEZa | C9: 84.45 | D9: 0.99
A10: F65 | B10: Aukerak eta ukoak | C10: 78.93 | D10: 3.71
A11: 130/717 | B11: PFEZaren zatikatzeak | C11: 74.07 | D11: 1.14
A12: 180 | B12: Errentamenduen atxikipenen urteko aitorpena | C12: 72.33 | D12: 0.51
A13: 193 | B13: Kapitalaren atxikipenen urteko aitorpena | C13: 45.99 | D13: -6.13
A14: 182 | B14: Dohaintzen urteko aitorpena | C14: 36.18 | D14: 0.87
B16: (*) 2017rako aurkezpen telematikoaren derrigortasuna ezarri zen.

Sheet G36
A1: 36. grafikoa. Autozerbitzu-terminalerako sarrerak, kontzeptuen arabera
A26: Kontzeptua | B26: 2017 | C26: Guztirakoaren gaineko %
A27: Ziurtagiriak ematea | B27: 2143 | C27: =B27/$B$35 -> 0.35096626
A28: PFEZren aitorpenen kopiak eskuratzea | B28: 1199 | C28: =B28/$B$35 -> 0.19636423
A29: Errenta-kanpainareko hitzordua eskatzea | B29: 851 | C29: =B29/$B$35 -> 0.13937111
A30: Beste aitorpen batzuen kopiak inprimatzea | B30: 602 | C30: =B30/$B$35 -> 0.098591549
A31: Datu fiskalak eskuratzea | B31: 590 | C31: =B31/$B$35 -> 0.096626269
A32: PINa etxera bidaltzea | B32: 401 | C32: =B32/$B$35 -> 0.065673108
A33: Partzela-zedulak eskuratzea | B33: 222 | C33: =B33/$B$35 -> 0.036357681
A34: IFZren txartela inprimatzea | B34: 98 | C34: =B34/$B$35 -> 0.016049787
A35: GUZTIRA | B35: =SUM(B27:B34) -> 6106 | C35: =B35/$B$35 -> 1

Sheet C37
A1: 37. taula. Zerga-kontrolerako jardueraren emaitzak. Jarduketen kopurua eta zenbatekoa
G3: 2017/2016 aldakuntza
B4: 2016 | D4: 2017 | G4: Jarduketa kop. | I4: Zenbatekoa
B5: Jarduketa kop. | C5: Zenbatekoa Mila euro | D5: Jarduketa kop. | E5: Zenbatekoa Mila euro | G5: Jarduketa kop. | H5: Aldakuntza-tasa | I5: Zenbatekoa Mila euro | J5: Aldakuntza-tasa
A6: Zerga-kontrolaren emaitza zuzenak | B6: 100538 | C6: 94821.531 | D6: 98524 | E6: 107447.11 | G6: =D6-B6 -> -2014 | H6: =(D6-B6)/B6 -> -0.020032227 | I6: =E6-C6 -> 12625.579 | J6: =(E6-C6)/C6 -> 0.13315097
A7: Zerga-kontrolaren eragindako emaitzak | B7: 13695 | C7: 19685.255 | D7: 5801 | E7: 31691.65 | G7: =D7-B7 -> -7894 | H7: =(D7-B7)/B7 -> -0.57641475 | I7: =E7-C7 -> 12006.395 | J7: =(E7-C7)/C7 -> 0.60991818
A8: Zuzenen eta eragindakoen batura | B8: =SUM(B6:B7) -> 114233 | C8: =SUM(C6:C7) -> 114506.79 | D8: =SUM(D6:D7) -> 104325 | E8: =SUM(E6:E7) -> 139138.76 | G8: =D8-B8 -> -9908 | H8: =(D8-B8)/B8 -> -0.086735007 | I8: =E8-C8 -> 24631.974 | J8: =(E8-C8)/C8 -> 0.21511366
A9: Beste jarduketa batzuk. Egoitza fiskala eta zifra erlatiboa | B9: 10 | C9: 19362.655 | D9: 19 | E9: 20984.282 | G9: =D9-B9 -> 9 | H9: =(D9-B9)/B9 -> 0.9 | I9: =E9-C9 -> 1621.627 | J9: =(E9-C9)/C9 -> 0.08375024
A10: Emaitza guztira | B10: =+B8+B9 -> 114243 | C10: =+C8+C9 -> 133869.44 | D10: =+D8+D9 -> 104344 | E10: =+E8+E9 -> 160123.04 | G10: =D10-B10 -> -9899 | H10: =(D10-B10)/B10 -> -0.086648635 | I10: =E10-C10 -> 26253.601 | J10: =(E10-C10)/C10 -> 0.19611347

Sheet C38
A1: 38. taula. Zerga-kontrolerako jarduketaren emaitzak arloen arabera. Jarduketen kopurua eta zenbatekoa
G3: 2017/2016 aldakuntza
B4: 2016 | D4: 2017 | G4: Jarduketa kop. | I4: Zenbatekoa
B5: Jarduketa kop. | C5: Zenbatekoa Mila euro | D5: Jarduketa kop. | E5: Zenbatekoa Mila euro | G5: Jarduketa kop. | H5: Aldakuntza-tasa | I5: Zenbatekoa Mila euro | J5: Aldakuntza-tasa
A6: Ikuskapena
A7: Zerga-kontrolaren emaitza zuzenak | B7: 1018 | C7: 45707.835 | D7: 934 | E7: 32753.92 | G7: =D7-B7 -> -84 | H7: =(D7-B7)/B7 -> -0.082514735 | I7: =E7-C7 -> -12953.915 | J7: =(E7-C7)/C7 -> -0.28340688
A8: Zerga-kontrolaren eragindako emaitzak | B8: 9 | C8: 434.45012 | D8: 10 | E8: 831.79 | G8: =D8-B8 -> 1 | H8: =(D8-B8)/B8 -> 0.11111111 | I8: =E8-C8 -> 397.33988 | J8: =(E8-C8)/C8 -> 0.91458113
A9: Beste jarduketa batzuk. Egoitza fiskala eta zifra erlatiboa | B9: 10 | C9: 19362.655 | D9: 19 | E9: 20984.28 | G9: =D9-B9 -> 9 | H9: =(D9-B9)/B9 -> 0.9 | I9: =E9-C9 -> 1621.625 | J9: =(E9-C9)/C9 -> 0.083750137
A10: Ikuskapenaren emaitzak guztira | B10: =SUM(B7:B9) -> 1037 | C10: =SUM(C7:C9) -> 65504.94 | D10: =SUM(D7:D9) -> 963 | E10: =SUM(E7:E9) -> 54569.99 | G10: =D10-B10 -> -74 | H10: =(D10-B10)/B10 -> -0.071359691 | I10: =E10-C10 -> -10934.95 | J10: =(E10-C10)/C10 -> -0.16693322
A11: Kudeaketa
A12: Zerga-kontrolaren emaitza zuzenak | B12: 36972 | C12: 39523.7 | D12: 38260 | E12: 63548.19 | G12: =D12-B12 -> 1288 | H12: =(D12-B12)/B12 -> 0.034837174 | I12: =E12-C12 -> 24024.49 | J12: =(E12-C12)/C12 -> 0.60785023
A13: Zerga-kontrolaren eragindako emaitzak | B13: 13686 | C13: 19250.805 | D13: 5791 | E13: 30859.86 | G13: =D13-B13 -> -7895 | H13: =(D13-B13)/B13 -> -0.57686687 | I13: =E13-C13 -> 11609.055 | J13: =(E13-C13)/C13 -> 0.6030426
A14: Kudeaketaren emaitzak guztira | B14: =SUM(B12:B13) -> 50658 | C14: =SUM(C12:C13) -> 58774.505 | D14: =SUM(D12:D13) -> 44051 | E14: =SUM(E12:E13) -> 94408.05 | G14: =D14-B14 -> -6607 | H14: =(D14-B14)/B14 -> -0.13042363 | I14: =E14-C14 -> 35633.545 | J14: =(E14-C14)/C14 -> 0.60627555
A15: Diru-bilketa
A16: Diru-bilketaren emaitzak guztira | B16: 62548 | C16: 9590 | D16: 59330 | E16: 11145 | G16: =D16-B16 -> -3218 | H16: =(D16-B16)/B16 -> -0.051448488 | I16: =E16-C16 -> 1555 | J16: =(E16-C16)/C16 -> 0.16214807
A17: Emaitza guztira | B17: =B10+B14+B16 -> 114243 | C17: =C10+C14+C16 -> 133869.44 | D17: =D10+D14+D16 -> 104344 | E17: =E10+E14+E16 -> 160123.04 | G17: =D17-B17 -> -9899 | H17: =(D17-B17)/B17 -> -0.086648635 | I17: =E17-C17 -> 26253.595 | J17: =(E17-C17)/C17 -> 0.19611342

Sheet C39
A1: 39. taula. Ikuskapen-arloko zerga-kontrolerako jarduketaren emaitzak guztira. Jarduketen kopurua eta zenbatekoa
G3: 2017/2016 aldakuntza
B4: 2016 | D4: 2017 | G4: Jarduketen kop. | I4: Zenbatekoa
B5: Jarduketa kop. | C5: Zenbatekoa Mila euro | D5: Jarduketa kop. | E5: Zenbatekoa Mila euro | G5: Jarduketa kop. | H5: Aldakuntza-tasa | I5: Zenbatekoa Mila euro | J5: Aldakuntza-tasa
A6: Aktak | B6: 573 | C6: 19868.841 | D6: 527 | E6: 16116.292 | G6: =D6-B6 -> -46 | H6: =(D6-B6)/B6 -> -0.080279232 | I6: =E6-C6 -> -3752.5497 | J6: =(E6-C6)/C6 -> -0.18886606
A7: Zehapen-espedienteak | B7: 367 | C7: 10570.829 | D7: 317 | E7: 6307.3512 | G7: =D7-B7 -> -50 | H7: =(D7-B7)/B7 -> -0.13623978 | I7: =E7-C7 -> -4263.4782 | J7: =(E7-C7)/C7 -> -0.40332485
A8: Delituaren erantzukizun zibila | B8: 3 | C8: 7981.6906 | D8: 4 | E8: 4921.2332 | G8: =D8-B8 -> 1 | H8: =(D8-B8)/B8 -> 0.33333333 | I8: =E8-C8 -> -3060.4574 | J8: =(E8-C8)/C8 -> -0.38343473
A9: Kreditu fiskalak kentzea | B9: 75 | C9: 7286.474 | D9: 86 | E9: 5409.0489 | G9: =D9-B9 -> 11 | H9: =(D9-B9)/B9 -> 0.14666667 | I9: =E9-C9 -> -1877.4251 | J9: =(E9-C9)/C9 -> -0.25765893
A10: Zerga-kontrolaren emaitza zuzenak | B10: =SUM(B6:B9) -> 1018 | C10: =SUM(C6:C9) -> 45707.835 | D10: =SUM(D6:D9) -> 934 | E10: =SUM(E6:E9) -> 32753.925 | G10: =D10-B10 -> -84 | H10: =(D10-B10)/B10 -> -0.082514735 | I10: =E10-C10 -> -12953.91 | J10: =(E10-C10)/C10 -> -0.28340678
A11: Zerga-kontrolaren eragindako emaitzak | B11: 9 | C11: 434.45012 | D11: 10 | E11: 831.78698 | G11: =D11-B11 -> 1 | H11: =(D11-B11)/B11 -> 0.11111111 | I11: =E11-C11 -> 397.33686 | J11: =(E11-C11)/C11 -> 0.91457417
A12: Zuzenen eta eragindakoen batura | B12: =+B10+B11 -> 1027 | C12: =+C10+C11 -> 46142.285 | D12: =+D10+D11 -> 944 | E12: =+E10+E11 -> 33585.712 | G12: =D12-B12 -> -83 | H12: =(D12-B12)/B12 -> -0.080817916 | I12: =E12-C12 -> -12556.574 | J12: =(E12-C12)/C12 -> -0.27212726
A13: Beste jarduketa batzuk. Helbide fiskala eta zifra erlatiboa (*) | B13: 10 | C13: 19362.655 | D13: 19 | E13: 20984.282 | G13: =D13-B13 -> 9 | H13: =(D13-B13)/B13 -> 0.9 | I13: =E13-C13 -> 1621.627 | J13: =(E13-C13)/C13 -> 0.08375024
A14: Ikuskapenaren emaitzak guztira | B14: =+B12+B13 -> 1037 | C14: =+C12+C13 -> 65504.94 | D14: =+D12+D13 -> 963 | E14: =+E12+E13 -> 54569.994 | G14: =D14-B14 -> -74 | H14: =(D14-B14)/B14 -> -0.071359691 | I14: =E14-C14 -> -10934.947 | J14: =(E14-C14)/C14 -> -0.16693316
A16: (*) Zenbatekoan sartuta dago Zerga Kudeaketako Zerbitzuaren Enpresa Handien Atalak eginiko egiaztatzeko eskaerei eta zifra erlatiboen beste zuzenketa batzuei dagokien emaitza

Sheet C40
A1: 40. taula. Ikuskaritza Zerbitzuak zergak kontrolatzeko eginiko jardueraren emaitzak guztira. Akten zenbatekoa, zergaren eta izapidetzearen arabera
A3: Zerga | B3: Aktak | D3: Zenbatekoa guztira Mila euro
B4: Adostasuna | C4: Desadostasuna
A5: PFEZ | B5: 3792.847 | C5: 94.31663 | D5: =SUM(B5:C5) -> 3887.1636
A6: BEZ | B6: 3677.1572 | C6: 388.80499 | D6: =SUM(B6:C6) -> 4065.9622
A7: Ondarea | B7: 76.77529 | C7: 0 | D7: =SUM(B7:C7) -> 76.77529
A8: Errentamenduen atxikipena | B8: 59.80027 | C8: 0 | D8: =SUM(B8:C8) -> 59.80027
A9: Kapitalaren atxikipena | B9: 89.38339 | C9: 0 | D9: =SUM(B9:C9) -> 89.38339
A10: Laneko atxikipena | B10: 547.81332 | C10: 0 | D10: =SUM(B10:C10) -> 547.81332
A11: Sozietateak | B11: 6376.8751 | C11: 1012.5183 | D11: =SUM(B11:C11) -> 7389.3935
A12: Aktak guztira | B12: =SUM(B5:B11) -> 14620.652 | C12: =SUM(C5:C11) -> 1495.6399 | D12: =SUM(D5:D11) -> 16116.292

Sheet C41
A1: 41. taula. Ikuskaritza Zerbitzuak zergak kontrolatzeko eginiko jarduketaren emaitzak guztira. Zehapen-espedienteen zenbateakoa, zergaren eta izapideen arabera
A3: Zerga | B3: Zehapen-espedienteak | D3: Zenbatekoa guztira Mila euro
B4: Adostasuna | C4: Desadostasuna
A5: PFEZ | B5: 1249.3468 | C5: 13.5444 | D5: =SUM(B5:C5) -> 1262.8912
A6: BEZ | B6: 894.31442 | C6: 298.67022 | D6: =SUM(B6:C6) -> 1192.9846
A7: Ondarea | B7: 14.40682 | C7: 0 | D7: =SUM(B7:C7) -> 14.40682
A8: Errentamenduen atxikipena | B8: 13.806 | C8: 0 | D8: =SUM(B8:C8) -> 13.806
A9: Laneko atxikipena | B9: 210.00795 | C9: 0 | D9: =SUM(B9:C9) -> 210.00795
A10: Sozietateak | B10: 2134.5286 | C10: 590.22372 | D10: =SUM(B10:C10) -> 2724.7523
A11: Beste batzuk | B11: 882.919 | C11: 5.58241 | D11: =SUM(B11:C11) -> 888.50141
A12: Zehapen-espedienteak guztira | B12: =SUM(B5:B11) -> 5399.3296 | C12: =SUM(C5:C11) -> 908.02075 | D12: =SUM(D5:D11) -> 6307.3503

Sheet C42
A1: 42. taula. Ikuskaritza Zerbitzuak zergak kontrolatzeko eginiko jardueraren emaitzak guztira. Beste jarduketa batzuk: egoitza fiskala eta zifra erlatiboa. Jarduketen kopurua eta zenbatekoa
G3: 2017/2016 aldakuntza
B4: 2016 | D4: 2017 | G4: Jarduketa kop. | I4: Zenbatekoa
B5: Jarduketa kop. | C5: Zenbatekoa Mila euro | D5: Jarduketa kop. | E5: Zenbatekoa Mila euro | G5: Jarduketa kop. | H5: Aldakuntza-tasa | I5: Zenbatekoa Mila euro | J5: Aldakuntza-tasa
A6: Egoitza-aldaketak | B6: 2 | C6: 2133.3245 | D6: 0 | E6: 0 | G6: =D6-B6 -> -2 | H6: =(D6-B6)/B6 -> -1 | I6: =E6-C6 -> -2133.3245 | J6: =(E6-C6)/C6 -> -1
A7: Akta bakarrak | B7: 2 | C7: 5761.1762 | D7: 1 | E7: 187.469 | G7: =D7-B7 -> -1 | H7: =(D7-B7)/B7 -> -0.5 | I7: =E7-C7 -> -5573.7072 | J7: =(E7-C7)/C7 -> -0.96745994
A8: Zifra erlatiboak egiaztatzeko eskaerak | B8: 3 | C8: 1340.9744 | D8: 15 | E8: 18656.925 | G8: =D8-B8 -> 12 | H8: =(D8-B8)/B8 -> 4 | I8: =E8-C8 -> 17315.95 | J8: =(E8-C8)/C8 -> 12.912961
A9: Zifra erlatiboaren beste zuzenketa batzuk | B9: 3 | C9: 10127.18 | D9: 3 | E9: 2139.8877 | G9: =D9-B9 -> 0 | H9: =(D9-B9)/B9 -> 0 | I9: =E9-C9 -> -7987.2923 | J9: =(E9-C9)/C9 -> -0.78869856
A10: Beste jarduketa batzuk. Egoitza fiskala eta zifra erlatiboa | B10: 10 | C10: 19362.655 | D10: =SUM(D6:D9) -> 19 | E10: =SUM(E6:E9) -> 20984.281 | G10: =D10-B10 -> 9 | H10: =(D10-B10)/B10 -> 0.9 | I10: =E10-C10 -> 1621.6264 | J10: =(E10-C10)/C10 -> 0.08375021

Sheet G43
A1: 43. grafikoa. Aurkeztutako salaketak, aurkezteko kanalaren eta izapidetze-egoeraren arabera
B29: Izapidetuak | C29: Azterketa-fasean | D29: Guztira aurkeztutakoak
A30: Web bidezko salaketak | B30: 307 | C30: 373 | D30: =SUM(B30:C30) -> 680
A31: Beste bide batzuen bidezko salaketak | B31: 33 | C31: 53 | D31: =SUM(B31:C31) -> 86
A32: Salaketak guztira | B32: =SUM(B30:B31) -> 340 | C32: =SUM(C30:C31) -> 426 | D32: =SUM(D30:D31) -> 766

Sheet G44
A1: 44. grafikoa. Izapidetutako salaketak, izapidetze motaren arabera
B15: Nº denuncias TRAMITADAS
A29: Artxibatuak | B29: 296
A30: Ikuskapen-planaren azterketa eta balorazioa | B30: 33
A31: Beste atal batzuetara bidalitakoak | B31: 9
A32: Beste erakunde batzuetara bidalitakoak | B32: 2
A33: Azterketa-fasean | B33: 426
A34: 2017an AURKEZTUTAKO SALAKETAK GUZTIRA | B34: =SUM(B29:B33) -> 766

Sheet C45
A1: 45. taula. Kudeaketa Zerbitzuak zergak kontrolatzeko eginiko jardueraren emaitzak guztira. Jarduketen kopurua eta zenbatekoa
G3: 2017/2016 aldakuntza
B4: 2016 | D4: 2017 | G4: Jarduketa kop. | I4: Zenbatekoa
B5: Jarduketa kop. | C5: Zenbatekoa Mila euro | D5: Jarduketa kop. | E5: Zenbatekoa Mila euro | G5: Jarduketa kop. | H5: Aldakuntza-tasa | I5: Zenbatekoa Mila euro | J5: Aldakuntza-tasa
A6: BEZ (kuota eta interesak) | B6: 3520 | C6: 12936.162 | D6: 4418 | E6: 18451.49 | G6: =D6-B6 -> 898 | H6: =(D6-B6)/B6 -> 0.25511364 | I6: =E6-C6 -> 5515.3277 | J6: =(E6-C6)/C6 -> 0.42634961
A7: PFEZ (kuota eta interesak) | B7: 4090 | C7: 4960.1238 | D7: 4657 | E7: 5572.04 | G7: =D7-B7 -> 567 | H7: =(D7-B7)/B7 -> 0.13863081 | I7: =E7-C7 -> 611.91616 | J7: =(E7-C7)/C7 -> 0.12336711
A8: Sozietateen gaineko Zerga (kuota eta interesak) | B8: 279 | C8: 2185.2472 | D8: 205 | E8: 1323.87 | G8: =D8-B8 -> -74 | H8: =(D8-B8)/B8 -> -0.26523297 | I8: =E8-C8 -> -861.37722 | J8: =(E8-C8)/C8 -> -0.39417838
A9: Gainerako zergak (kuota eta interesak) | B9: 5674 | C9: 5890.8168 | D9: 4500 | E9: 23240.07 | G9: =D9-B9 -> -1174 | H9: =(D9-B9)/B9 -> -0.20690871 | I9: =E9-C9 -> 17349.253 | J9: =(E9-C9)/C9 -> 2.9451354
A10: Zehapenak | B10: 13873 | C10: 5683.4711 | D10: 15963 | E10: 7424.22 | G10: =D10-B10 -> 2090 | H10: =(D10-B10)/B10 -> 0.15065235 | I10: =E10-C10 -> 1740.7489 | J10: =(E10-C10)/C10 -> 0.30628271
A11: Garaiz kanpoko gainordainak | B11: 4952 | C11: 2458.7725 | D11: 4613 | E11: 1843.42 | G11: =D11-B11 -> -339 | H11: =(D11-B11)/B11 -> -0.068457189 | I11: =E11-C11 -> -615.35249 | J11: =(E11-C11)/C11 -> -0.25026817
A12: Errekerimenduak | B12: 4584 | C12: 5409.1019 | D12: 3904 | E12: 5693.08 | G12: =D12-B12 -> -680 | H12: =(D12-B12)/B12 -> -0.14834206 | I12: =E12-C12 -> 283.9781 | J12: =(E12-C12)/C12 -> 0.052500046
A13: Zerga-kontrolaren emaitza zuzenak | B13: =SUM(B6:B12) -> 36972 | C13: =SUM(C6:C12) -> 39523.696 | D13: =SUM(D6:D12) -> 38260 | E13: =SUM(E6:E12) -> 63548.19 | G13: =D13-B13 -> 1288 | H13: =(D13-B13)/B13 -> 0.034837174 | I13: =E13-C13 -> 24024.494 | J13: =(E13-C13)/C13 -> 0.6078504
A14: Zerga-kontrolaren eragindako emaitzak | B14: 13686 | C14: 19250.805 | D14: 5791 | E14: 30859.86 | G14: =D14-B14 -> -7895 | H14: =(D14-B14)/B14 -> -0.57686687 | I14: =E14-C14 -> 11609.055 | J14: =(E14-C14)/C14 -> 0.6030426
A15: Kudeaketaren emaitzak guztira | B15: =+B13+B14 -> 50658 | C15: =+C13+C14 -> 58774.5 | D15: =+D13+D14 -> 44051 | E15: =+E13+E14 -> 94408.05 | G15: =D15-B15 -> -6607 | H15: =(D15-B15)/B15 -> -0.13042363 | I15: =E15-C15 -> 35633.55 | J15: =(E15-C15)/C15 -> 0.60627567

Sheet C46
A1: 46. taula. Kudeaketa Zerbitzuak zergak kontrolatzeko eginiko jardueraren emaitzak guztira. Jarduketen kopurua eta zenbatekoa
G3: 2017/2016 aldakuntza
B4: 2016 | D4: 2017 | G4: Jarduketa kop. | I4: Zenbatekoa
B5: Jarduketa kop. | C5: Zenbatekoa Mila euro | D5: Jarduketa kop. | E5: Zenbatekoa Mila euro | G5: Jarduketa kop. | H5: Aldakuntza-tasa | I5: Zenbatekoa Mila euro | J5: Aldakuntza-tasa
A6: Ordainketa-gutunak eta igorritako gainordainak | B6: 47415 | C6: 5761 | D6: 45500 | E6: 7029 | G6: =D6-B6 -> -1915 | H6: =(D6-B6)/B6 -> -0.040388063 | I6: =E6-C6 -> 1268 | J6: =(E6-C6)/C6 -> 0.22010068
A7: Geroratze-interesak | B7: 15133 | C7: 3829 | D7: 13830 | E7: 4116 | G7: =D7-B7 -> -1303 | H7: =(D7-B7)/B7 -> -0.086103218 | I7: =E7-C7 -> 287 | J7: =(E7-C7)/C7 -> 0.074954296
A8: Diru-bilketaren emaitzak guztira | B8: =SUM(B6:B7) -> 62548 | C8: =SUM(C6:C7) -> 9590 | D8: =SUM(D6:D7) -> 59330 | E8: =SUM(E6:E7) -> 11145 | G8: =D8-B8 -> -3218 | H8: =(D8-B8)/B8 -> -0.051448488 | I8: =E8-C8 -> 1555 | J8: =(E8-C8)/C8 -> 0.16214807

Sheet C47
A1: 47. taula. Nahitaezko diru-bilketarako beste jarduketa batzuk. Erantzukizunak bideratzea. Enkanteak. Enbargo-eginbideak
G3: 2017/2016 aldakuntzak
B4: 2016 | D4: 2017 | G4: Jarduketa kop. | I4: Zenbatekoa
B5: Jarduketa kop. | C5: Zenbatekoa Mila euro | D5: Jarduketa kop. | E5: Zenbatekoa Mila euro | G5: Jarduketa kop. | H5: Aldakuntza-tasa | I5: Zenbatekoa Mila euro | J5: Aldakuntza-tasa
A6: Pertsona juridikoak | B6: 75 | C6: 9850.417 | D6: 102 | E6: 11699.05 | G6: =D6-B6 -> 27 | H6: =(D6-B6)/B6 -> 0.36 | I6: =E6-C6 -> 1848.633 | J6: =(E6-C6)/C6 -> 0.18767053
A7: Nortasun juridikorik gabeko entitateak | B7: 39 | C7: 12554.09 | D7: 26 | E7: 1351.93 | G7: =D7-B7 -> -13 | H7: =(D7-B7)/B7 -> -0.33333333 | I7: =E7-C7 -> -11202.16 | J7: =(E7-C7)/C7 -> -0.89231159
A8: Bideratutako erantzukizunak (abiarazitako esp.) | B8: =SUM(B6:B7) -> 114 | C8: =SUM(C6:C7) -> 22404.507 | D8: =SUM(D6:D7) -> 128 | E8: =SUM(E6:E7) -> 13050.98 | G8: =D8-B8 -> 14 | H8: =(D8-B8)/B8 -> 0.12280702 | I8: =E8-C8 -> -9353.527 | J8: =(E8-C8)/C8 -> -0.41748417
A9: Bideratutako erantzukizunak (kobrantzak) | C9: 823.696 | E9: 1665.8 | I9: =E9-C9 -> 842.104 | J9: =(E9-C9)/C9 -> 1.0223481
A11: Higiezinak | B11: 7 | C11: 553.765 | D11: 31 | E11: 620.43 | G11: =D11-B11 -> 24 | H11: =(D11-B11)/B11 -> 3.4285714 | I11: =E11-C11 -> 66.665 | J11: =(E11-C11)/C11 -> 0.120385
A12: Higigarriak | B12: 2 | C12: 12.04 | D12: 0 | E12: 0 | G12: =D12-B12 -> -2 | H12: =(D12-B12)/B12 -> -1 | I12: =E12-C12 -> -12.04 | J12: =(E12-C12)/C12 -> -1
A13: Egindako enkateak eta kobratutako zenbatekoak | B13: 9 | C13: 565.805 | D13: =SUM(D11:D12) -> 31 | E13: =SUM(E11:E12) -> 620.43 | G13: =D13-B13 -> 22 | H13: =(D13-B13)/B13 -> 2.4444444 | I13: =E13-C13 -> 54.625 | J13: =(E13-C13)/C13 -> 0.096543862
A15: Banku-kontuak | B15: 107000 | D15: 112000 | G15: =D15-B15 -> 5000 | H15: =(D15-B15)/B15 -> 0.046728972
A16: Soldatak | B16: 2600 | D16: 2660 | G16: =D16-B16 -> 60 | H16: =(D16-B16)/B16 -> 0.023076923
A17: Kredituak | B17: 3300 | D17: 2935 | G17: =D17-B17 -> -365 | H17: =(D17-B17)/B17 -> -0.11060606
A18: Higiezinak | B18: 77 | D18: 211 | G18: =D18-B18 -> 134 | H18: =(D18-B18)/B18 -> 1.7402597
A19: Enbargo-eginbideen kopurua | B19: =SUM(B15:B18) -> 112977 | D19: =SUM(D15:D18) -> 117806 | G19: =D19-B19 -> 4829 | H19: =(D19-B19)/B19 -> 0.042743213

Sheet G48
A1: 48. grafikoa. Bidalitako PFEZaren autolikidazio-proposamenen kopuruaren denbora-bilakaera
A25: Aurrekontu-urtea | B25: Bidalitako proposamenak
A26: 2002 | B26: 3055
A27: 2003 | B27: 49712
A28: 2004 | B28: 70724
A29: 2005 | B29: 93169
A30: 2006 | B30: 137147
A31: 2007 | B31: 156423
A32: 2008 | B32: 165411
A33: 2009 | B33: 169670
A34: 2010 | B34: 183206
A35: 2011 | B35: 189134
A36: 2012 | B36: 195165
A37: 2013 | B37: 189526
... A41: 2017 | B41: 179414

Sheet G49
A1: 49. grafikoa. Onartutako eta baliogabetutako PFEZaren autolikidazio-proposamenen kopuruaren denbora-bilakaera
A25: Urtea | B25: Onartutako proposamenak | C25: Baliogabetutako proposamenak
A26: 2012 | B26: 0.9012 | C26: 0.0988
A27: 2013 | B27: 0.8912 | C27: 0.1088
A28: 2014 | B28: 0.9031 | C28: 0.0973
A29: 2015 | B29: 0.9216 | C29: 0.0762
A30: 2016 | B30: 0.9228 | C30: 0.0771
A31: 2017 | B31: 0.9309 | C31: 0.0691

Sheet G50
A1: 50. grafikoa. Aurkeztutako PFEZren aitorpenen kopuruaren bilakaera. Aurkezteko moduen arabera
A29: Aurrekontu-urtea | B29: Entitate laguntzaileak | C29: Eskuzkoak | D29: Internet | E29: Proposamenak
A30: 2009 | B30: 130077 | C30: 5880 | D30: 40173 | E30: 169670
A31: 2010 | B31: 126722 | C31: 5687 | D31: 42319 | E31: 183242
A32: 2011 | B32: 118944 | C32: 5162 | D32: 46264 | E32: 188235
A33: 2012 | B33: 114561 | C33: 3580 | D33: 47321 | E33: 195282
A34: 2013 | B34: 109332 | C34: 3012 | D34: 51592 | E34: 189526
A35: 2014 | B35: 106945 | C35: 2347 | D35: 53742 | E35: 181366
A36: 2015 | B36: 96432 | C36: 1819 | D36: 53598 | E36: 178257
A37: 2016 | B37: 96513 | C37: 2276 | D37: 57092 | E37: 179060
A38: 2017 | B38: 100458 | C38: 1082 | D38: 59112 | E38: 179414
A40: Aurkeztutako aitorpenen datuak (baliogabetuak barne) aurkeztutako bitartekoen arabera

Sheet C51
A1: 51. taula. PFEZaren kanpainarako bulegoetako aurretiko hitzorduen kopurua. Hitzordua hartzeko moduaren arabera
A3: Bulegoa | B3: Telefonoa | C3: Bulegoa | D3: Internet | E3: Guztira
A4: Barañain | B4: 1424 | C4: 5 | D4: 2493 | E4: 3922
A5: Burlata | B5: 1395 | C5: 4 | D5: 2463 | E5: 3862
A6: Lizarra | B6: 828 | C6: 91 | D6: 1216 | E6: 2135
A7: Iruñea | B7: 4604 | C7: 65 | D7: 11119 | E7: 15788
A8: Tafalla | B8: 394 | C8: 2 | D8: 497 | E8: 893
A9: Tutera | B9: 1630 | C9: 191 | D9: 2532 | E9: 4353
A10: Doneztebe | B10: 370 | C10: 1 | D10: 555 | E10: 926
A11: 2017a guztira (2016ko kanpaina) | B11: =SUM(B4:B10) -> 10645 | C11: =SUM(C4:C10) -> 359 | D11: =SUM(D4:D10) -> 20875 | E11: =SUM(E4:E10) -> 31879
A12: 2016a guztira (2015eko kanpaina) | B12: 12125 | C12: 587 | D12: 19163 | E12: 31875
A13: 2015a guztira (2014ko kanpaina) | B13: 14748 | C13: 499 | D13: 18611 | E13: 33858
A14: 2014a guztira (2013ko kanpaina) | B14: 17485 | C14: 243 | D14: 14748 | E14: 32476
A15: 2013a guztira (2012ko kanpaina) | B15: 17319 | C15: 244 | D15: 15723 | E15: 33286

Sheet C52
A1: 52. taula. Interneteko bulego birtuala. Zerbitzu erabilienetara sartu ziren pertsonen kopurua
E3: 2017/2016 aldakuntza
A4: Erabilitako zerbitzuak | B4: 2016. urtea (2015eko kanpaina) | C4: 2017. urtea (2016ko kanpaina) | E4: GUZTIRA | F4: Aldakuntza-tasa
A5: Aitorpena berrinprimatzea | B5: 209770 | C5: 185201 | E5: =C5-B5 -> -24569 | F5: =(C5-B5)/B5 -> -0.11712352
A6: Datu fiskalen kontsulta | B6: 64066 | C6: 64769 | E6: =C6-B6 -> 703 | F6: =(C6-B6)/B6 -> 0.010973059
A7: "Aitorpena egin" programa | B7: 83808 | C7: 81167 | E7: =C7-B7 -> -2641 | F7: =(C7-B7)/B7 -> -0.031512505
A8: Propuesta daukan ikusteko kontsulta (PINik gabe) | B8: 66346 | C8: 82828 | E8: =C8-B8 -> 16482 | F8: =(C8-B8)/B8 -> 0.24842492
A10: Webgunera sartu ziren pertsona desberdinak | B10: 222613 | C10: 226011 | E10: =C10-B10 -> 3398 | F10: =(C10-B10)/B10 -> 0.015264158

Sheet G53
A1: 53. grafikoa. Interneteko bulego birtuala. Aplikazioetarako sarreren denbora-bilakaera
A30: Urtea | B30: Aplikazioetarako sarrera kop.
A31: 2008 | B31: 237120
A32: 2009 | B32: 272948
A33: 2010 | B33: 308104
A34: 2011 | B34: 351953
A35: 2012 | B35: 382167
A36: 2013 | B36: 487117
A37: 2014 | B37: 418908
A38: 2015 | B38: 500668
A39: 2016 | B39: 518976
A40: 2017 | B40: 503424

Sheet C54
A1: 54. taula. PFEZaren kanpaina zifretan. Saldoa. Aitorpenen kopurua eta zenbateko positibo eta negatiboa
A3: Aitorpenen kopurua
B4: 2016 Kopurua | C4: 2017 Kopurua
A5: Aurkeztutako PFEZren aitorpenak | B5: 317077 | C5: 321781
A6: PFEZren aitortzaileak | B6: 457429 | C6: 452786
A8: Ordaindu edo itzultzeko saldoa duten aitorpenen proportzioa
B9: 2016 % | C9: 2017 %
A10: Itzuli beharreko emaitza duten aitorpenak | B10: 0.68 | C10: 0.65
A11: Ordaindu beharreko emaitza duten aitorpenak | B11: 0.32 | C11: 0.35
A13: Saldo ekonomikoa, guztizko zenbateko positibo eta negatiboa
B14: 2016 Zenbatekoak (mila €) | C14: 2017 Zenbatekoak (mila €)
A15: Diru-sarrerak | B15: 124091.91 | C15: 155476
A16: Itzulketak | B16: -193818.82 | C16: -177027.66
A17: Kanpainaren saldoa | B17: -69726.915 | C17: -21551.657
A19: “Itzuli beharreko” batezbestekoa (euro) | B19: -895.2 | C19: -840.87
A20: “Ordaindu beharreko” batezbestekoa (euro) | B20: 1233.91 | C20: 1397.4
A22: Kanpainaren itxierako datuak

Sheet G55
A1: 55. grafikoa. PFEZaren aitorpen positibo eta negatiboen kopuruaren denbora-bilakaera
A27: Aurrekontu-urtea | B27: "Itzuli beharreko" aitorpenen kop. | C27: "Ordaindu beharreko" aitorpenen kop.
A28: 2009 | B28: 259702 | C28: 72208
A29: 2010 | B29: 236808 | C29: 82185
A30: 2011 | B30: 237625 | C30: 83528
A31: 2012 | B31: 230745 | C31: 99745
A32: 2013 | B32: 211586 | C32: 91870
A33: 2014 | B33: 222131 | C33: 89308
A34: 2015 | B34: 198331 | C34: 94958
A35: 2016 | B35: 216509 | C35: 100568
A36: 2017 | B36: 210528 | C36: 111261

Sheet G56
A1: 56. grafikoa. Saldo ekonomikoaren denbora-bilakaera. PFEZren zenbateko positiboa eta negatiboa
A31: Aurrekontu-urtea | B31: Ordaindu beharreko zenbatekoar | C31: Itzuli beharreko zenbatekoa | D31: Kanpainaren saldoa
A32: 2009 | B32: 111037.3 | C32: -285706.97 | D32: =B32+C32 -> -174669.67
A33: 2010 | B33: 96576.254 | C33: -242527.91 | D33: =B33+C33 -> -145951.66
A34: 2011 | B34: 90014.588 | C34: -224438.01 | D34: =B34+C34 -> -134423.42
A35: 2012 | B35: 126538.99 | C35: -219516.48 | D35: =B35+C35 -> -92977.494
A36: 2013 | B36: 89274.189 | C36: -217318.72 | D36: =B36+C36 -> -128044.53
A37: 2014 | B37: 90756.111 | C37: -189377.9 | D37: =B37+C37 -> -98621.791
A38: 2015 | B38: 109397.39 | C38: -185305.11 | D38: =B38+C38 -> -75907.718
A39: 2016 | B39: 124091.91 | C39: -193818.82 | D39: =B39+C39 -> -69726.914
A40: 2017 | B40: 155476 | C40: -177028 | D40: =B40+C40 -> -21552

Sheet C57
A1: 57. taula. Ondarearen gaineko Zergaren kanpaina zifretan. Aitorpenen kopurua eta saldo ekonomikoa
E3: 2016/2015 aldakuntza
B4: Ondarea (2015) | C4: Ondarea (2016) | E4: GUZTIRA | F4: Aldakuntza-tasa
A5: Aitorpenen kop. | B5: 4263 | C5: 6523 | E5: =C5-B5 -> 2260 | F5: =C5/B5-1 -> 0.53014309
A6: Sartu beharreko kuota (mila €) | B6: 31771.626 | C6: 39862 | E6: =C6-B6 -> 8090.374 | F6: =C6/B6-1 -> 0.25464148

Sheet C58
A1: 58. taula. PFEZaren eta Ondarearen gaineko Zergako laguntza-jarduketen emaitza, kanpainatik kanpo. Jarduketen kopurua
E3: 2017/2016 aldakuntza
B4: 2016 | C4: 2017 | E4: GUZTIRA | F4: Aldakuntza-tasa
A5: Ogasunean egindako aitorpenak | B5: =SUM(B6:B7) -> 7110 | C5: =SUM(C6:C7) -> 7969 | E5: =C5-B5 -> 859 | F5: =(C5-B5)/B5 -> 0.12081575
A6: kanpaina | B6: 6129 | C6: 4835 | E6: =C6-B6 -> -1294 | F6: =(C6-B6)/B6 -> -0.21112743
A7: aurreko urteak | B7: 981 | C7: 3134 | E7: =C7-B7 -> 2153 | F7: =(C7-B7)/B7 -> 2.1946993
A8: Aurrez aurreko kontsulta teknikoak | B8: 1173 | C8: 2420 | E8: =C8-B8 -> 1247 | F8: =(C8-B8)/B8 -> 1.0630861
A9: Aurrez aurreko administrazio-arloko kontsultak | B9: 14394 | C9: 17916 | E9: =C9-B9 -> 3522 | F9: =(C9-B9)/B9 -> 0.24468529
A10: Telefono bidezko kontsultak | B10: 618 | C10: 887 | E10: =C10-B10 -> 269 | F10: =(C10-B10)/B10 -> 0.43527508

Sheet C59
A1: 59. taula. Izapidetutako BEZaren itzulketak. Egindako eskaerak eta eskatutako eta itzulitako zenbatekoak
B3: 2016 | E3: 2017
B4: Eskaera kop. | C4: Eskatutako zenbatekoa Mila euro | D4: Itzulitako zenbatekoa Mila euro | E4: Eskaera kop. | F4: Eskatutako zenbatekoa Mila euro | G4: Itzulitako zenbatekoa Mila euro
A5: Urteko BEZaren itzulketak | B5: 3597 | C5: 67759.751 | D5: 62978.027 | E5: 3641 | F5: 71702.478 | G5: 60706.428
A6: Hileko BEZaren itzulketak | B6: 6887 | C6: 781892.75 | D6: 767224.6 | E6: 6947 | F6: 833935.13 | G6: 832012.59
A7: GUZTIRA | B7: 10484 | C7: 849652.51 | D7: 830202.62 | E7: =SUM(E5:E6) -> 10588 | F7: =SUM(F5:F6) -> 905637.61 | G7: =SUM(G5:G6) -> 892719.02
B10: 2017/2016 ALDAKUNTZA
B11: Eskaera kop. | D11: Eskatutako zenbatekoa | F11: Itzulitako zenbatekoa
B12: Kopurua | C12: Aldakuntza-tasa | D12: Zenbatekoa | E12: Aldakuntza-tasa | F12: Zenbatekoa | G12: Aldakuntza-tasa
A13: Urteko BEZaren itzulketak | B13: =E5-B5 -> 44 | C13: =(E5-B5)/B5 -> 0.012232416 | D13: =F5-C5 -> 3942.727 | E13: =(F5-C5)/C5 -> 0.058186858 | F13: =G5-D5 -> -2271.599 | G13: =(G5-D5)/D5 -> -0.036069707
A14: Hileko BEZaren itzulketak | B14: =E6-B6 -> 60 | C14: =(E6-B6)/B6 -> 0.0087120662 | D14: =F6-C6 -> 52042.379 | E14: =(F6-C6)/C6 -> 0.066559485 | F14: =G6-D6 -> 64787.99 | G14: =(G6-D6)/D6 -> 0.084444621
A15: GUZTIRA | B15: =E7-B7 -> 104 | C15: =(E7-B7)/B7 -> 0.0099198779 | D15: =F7-C7 -> 55985.106 | E15: =(F7-C7)/C7 -> 0.065891768 | F15: =G7-D7 -> 62516.391 | G15: =(G7-D7)/D7 -> 0.07530257

Sheet G60
A1: 60. grafikoa.Nafarroako guztizko katastro-balioaren denbora-bilakaera. Partzelen kopurua. Unitateen kopurua. Katastro-balioa milioi eurotan
A26: Urtea | B26: Partzela kop. | C26: Unitate kop. | D26: Katastro-balioa
A27: 2009 | B27: 688282 | C27: 1002438 | D27: 37627
A28: 2010 | B28: 674358 | C28: 1049029 | D28: 39212
A29: 2011 | B29: 664963 | C29: 1068556 | D29: 39778
A30: 2012 | B30: 659476 | C30: 1084868 | D30: 42967
A31: 2013 | B31: 655509 | C31: 1098151 | D31: 43542
A32: 2014 | B32: 648587 | C32: 1112891 | D32: 42460
A33: 2015 | B33: 649060 | C33: 1121255 | D33: 42474
A34: 2016 | B34: 649298 | C34: 1128546 | D34: 44405
A35: 2017 | B35: 643134 | C35: 1135222 | D35: 44145

Sheet G61
A1: 61. grafikoa. Tasatutako higieizinen kopuruaren denbora-bilakaera
A26: Urtea | B26: Tasatutako higiezin kop.
A27: 2009 | B27: 28167
A28: 2010 | B28: 25451
A29: 2011 | B29: 25698
A30: 2012 | B30: 12599
A31: 2013 | B31: 13129
A32: 2014 | B32: 8681
A33: 2015 | B33: 9793.5
A34: 2016 | B34: 8546
A35: 2017 | B35: 7627

Sheet G62
A1: 62. grafikoa. Onartutako balorazio-txostenen kopuruaren denbora-bilakaera
A28: Urtea | B28: Onartutako txosten kop.
A29: 2009 | B29: 3
A30: 2010 | B30: 4
A31: 2011 | B31: 9
A32: 2012 | B32: 7
A33: 2013 | B33: 18
A34: 2014 | B34: 19
A35: 2015 | B35: 27
A36: 2016 | B36: 29
A37: 2017 | B37: 34

Sheet G63
A1: 63. grafikoa. Nafarroako Desjabetze Epaimahaian alta emandako espedienteen kopuruaren denbora-bilakaera
A22: Urtea | B22: Expediente kopurua
A23: 2009 | B23: 179
A24: 2010 | B24: 284
A25: 2011 | B25: 123
A26: 2012 | B26: 107
A27: 2013 | B27: 61
A28: 2014 | B28: 89
A29: 2015 | B29: 18
A30: 2016 | B30: 52
A31: 2017 | B31: 12

Sheet G64
A1: 64 grafikoa. Lur-ondasuneko aurrez aurreko arretan kopuruaren denbora-bilakaera
A29: Eskaeraren urtea | B29: Aurrez aurreko arreta kop.
A30: 2006 | B30: 7939
A31: 2007 | B31: 6842
A32: 2008 | B32: 5287
A33: 2009 | B33: 4174
A34: 2010 | B34: 3122
A35: 2011 | B35: 2716
A36: 2012 | B36: 3540
A37: 2013 | B37: 3506
A38: 2014 | B38: 3316
A39: 2015 | B39: 4498
A40: 2016 | B40: 3941
A41: 2017 | B41: 4239

Sheet G65
A1: 65. grafikoa. Emandako partzela-zedulen kopuruaren denbora-bilakaera. Izapidetzeko bitartekoaren arabera
A30: Urtea | B30: Bulegoan emandakoak | C30: Internet bidez emandakoak
A31: 2000 | B31: 80421 | C31: 58273
A32: 2001 | B32: 64042 | C32: 100869
A33: 2002 | B33: 46964 | C33: 178952
A34: 2003 | B34: 32720 | C34: 176407
A35: 2004 | B35: 26096 | C35: 179107
A36: 2005 | B36: 23372 | C36: 201707
A37: 2006 | B37: 19115 | C37: 224257
A38: 2007 | B38: 12845 | C38: 231868
A39: 2008 | B39: 7134 | C39: 328456
A40: 2009 | B40: 6070 | C40: 358211
A41: 2010 | B41: 3978 | C41: 363757
A42: 2011 | B42: 3529 | C42: 344978
... A48: 2017 | B48: 1988 | C48: 445939

Sheet C66
A1: 66. taula. Oinordetzen eta Dohaintzen gaineko Zergaren likidazioen kopuruaren bilakaera. Likidazio/autolikidazioen arabera
B3: Likidazioak | D3: Autolikidazioak | F3: Guztira
A4: Urtea | B4: Kopurua | C4: Guztizkoaren % | D4: Kopurua | E4: Guztizkoaren % | F4: Kopurua | G4: Urteko aldakuntza-tasa
A5: 2009 | B5: 12342 | C5: =B5/F5 -> 1 | D5: 0 | E5: 0 | F5: =B5+D5 -> 12342 | G5: -
A6: 2010 | B6: 12401 | C6: =B6/F6 -> 0.90976451 | D6: 1230 | E6: =D6/F6 -> 0.090235493 | F6: =B6+D6 -> 13631 | G6: =(F6-F5)/F5 -> 0.10444012
A7: 2011 | B7: 11496 | C7: =B7/F7 -> 0.84922804 | D7: 2041 | E7: =D7/F7 -> 0.15077196 | F7: =B7+D7 -> 13537 | G7: =(F7-F6)/F6 -> -0.0068960458
A8: 2012 | B8: 10502 | C8: =B8/F8 -> 0.70639672 | D8: 4365 | E8: =D8/F8 -> 0.29360328 | F8: =B8+D8 -> 14867 | G8: =(F8-F7)/F7 -> 0.098249243
A9: 2013 | B9: 6350 | C9: =B9/F9 -> 0.31705612 | D9: 13678 | E9: =D9/F9 -> 0.68294388 | F9: =B9+D9 -> 20028 | G9: =(F9-F8)/F8 -> 0.34714468
A10: 2014 | B10: 4262 | C10: =B10/F10 -> 0.20609284 | D10: 16418 | E10: =D10/F10 -> 0.79390716 | F10: =B10+D10 -> 20680 | G10: =(F10-F9)/F9 -> 0.032554424
A11: 2015 | B11: 3452 | C11: =B11/F11 -> 0.14600516 | D11: 20191 | E11: =D11/F11 -> 0.85399484 | F11: =B11+D11 -> 23643 | G11: =(F11-F10)/F10 -> 0.14327853
A12: 2016 | B12: 2875 | C12: =B12/F12 -> 0.12848014 | D12: 19502 | E12: =D12/F12 -> 0.87151986 | F12: =B12+D12 -> 22377 | G12: =(F12-F11)/F11 -> -0.053546504
A13: 2017 | B13: 1970 | C13: =B13/F13 -> 0.087934652 | D13: 20433 | E13: =D13/F13 -> 0.91206535 | F13: =B13+D13 -> 22403 | G13: =(F13-F12)/F12 -> 0.0011619073
A40: Año | B40: Total | C40: Liquidación | D40: Porcentaje | G40: Autoliquidación | H40: Autoliquidación
A41: 2009 | B41: 12342 | C41: 12342 | D41: 1 | G41: - | H41: -
A42: 2010 | B42: 13631 | C42: 12401 | D42: 0.9098 | G42: 1230 | H42: 1230
A43: 2011 | B43: 13537 | C43: 11496 | D43: 0.8492 | G43: 2041 | H43: 2041
A44: 2012 | B44: 14867 | C44: 10502 | D44: 0.7064 | G44: 4365 | H44: 4365
A45: 2013 | B45: 20028 | C45: 6350 | D45: 0.3171 | G45: 13678 | H45: 13678
A46: 2014 | B46: 20680 | C46: 4262 | D46: 0.2061 | G46: 16418 | H46: 16418
A47: 2015 | B47: 23643 | C47: 3452 | D47: 0.146 | G47: 20191 | H47: 20191
A48: 2016 | B48: 22377 | C48: 2875 | D48: 0.1285 | G48: 19502 | H48: 19502

Sheet G67
A1: 67. grafikoa. Aurkeztutako Ondare Eskualdaketen eta Egintza Juridiko Dokumentatuen gaineko Zergaren aitorpen kopuruaren bilakaera
A25: Ez dira kontuan hartu erabilitako ibilgailuen eskualdaketak
A27: Urtea | B27: Aitorpen kopurua
A28: 2009 | B28: 49726
A29: 2010 | B29: 46386
A30: 2011 | B30: 41768
A31: 2012 | B31: 38759
A32: 2013 | B32: 37737
A33: 2014 | B33: 38857
A34: 2015 | B34: 38984
A35: 2016 | B35: 39181
A36: 2017 | B36: 42498

Sheet C68
A1: 68. taula. Egindako zerga-itzulketen kopurua
E3: 2017/2016 aldakuntza
B4: 2016 | C4: 2017 | E4: Guztira | F4: Aldakuntza-tasa
A5: Itzulketen kopurua | B5: 260000 | C5: 250000 | E5: =C5-B5 -> -10000 | F5: =(C5-B5)/B5 -> -0.038461538

Sheet C69
A1: 69. taula. Izapidetutako atzerapenen kopurua
E3: 2017/2016 aldakuntza
B4: 2016 | C4: 2017 | E4: Guztira | F4: Aldakuntza-tasa
A5: Izapidetutako atzerapenen kopurua | B5: 17200 | C5: 16000 | E5: =C5-B5 -> -1200 | F5: =(C5-B5)/B5 -> -0.069767442

Sheet C70
A1: 70. taula. Hitzarmen Ekonomikoko finantza-fluxuak
B3: 2016 | C3: 2017 | E3: 2017/2016 aldakuntza
B4: Zenbatekoa mila euro | C4: Zenbatekoa mila euro | E4: Zenbatekoa mila euro | F4: Aldakuntza-tasa
A5: Ekarpen ekonomikoa | B5: 520686.64 | C5: 509174.54 | E5: =C5-B5 -> -11512.1 | F5: =(C5-B5)/B5 -> -0.022109459
A6: EGZren konpentsazioa | B6: 20317.661 | C6: 1964.775 | E6: =C6-B6 -> -18352.886 | F6: =(C6-B6)/B6 -> -0.90329718
A7: Ekarpena guztira | B7: 541004.3 | C7: =SUM(C5:C6) -> 511139.32 | E7: =C7-B7 -> -29864.986 | F7: =(C7-B7)/B7 -> -0.055202862
A9: Erregularizazioa 2015-2016 | C9: 128694.49 | E9: =C9-B9 -> 128694.49 | F9: -
A10: Ekarpenen eta diru-laguntzen guztizkoa | C10: =C9 -> 128694.49 | E10: =C10-B10 -> 128694.49 | F10: -
A12: BEZ | B12: 835522.13 | C12: 889110.09 | E12: =C12-B12 -> 53587.961 | F12: =(C12-B12)/B12 -> 0.064137094
A13: Alkohola eta tarteko produktuak | B13: -37473.124 | C13: -37957.881 | E13: =C13-B13 -> -484.7569 | F13: =(C13-B13)/B13 -> 0.012936122
A14: Garagardoa | B14: 4406.1825 | C14: 6430.7082 | E14: =C14-B14 -> 2024.5257 | F14: =(C14-B14)/B14 -> 0.45947387
A15: Hidrokarburoak | B15: -10033.557 | C15: 133151.77 | E15: =C15-B15 -> 143185.33 | F15: =-(C15-B15)/B15 -> 14.270645
A16: Tabakoa | B16: 8113.9724 | C16: 12235.117 | E16: =C16-B16 -> 4121.145 | F16: =(C16-B16)/B16 -> 0.5079072
A17: Doikuntza fiskalak guztira | B17: 800535.6 | C17: =SUM(C12:C16) -> 1002969.8 | E17: =C17-B17 -> 202434.2 | F17: =(C17-B17)/B17 -> 0.25287346

Sheet C71
A1: 71. taula. Beste zerga-administrazio batzuekiko lankidetza-eginbideak eta informazio-errekerimenduak
B3: Jasotakoak | C3: Bidalitakoak | D3: Guztira
A4: Zerga Administrazioko Estatu Agentzia | B4: 167 | C4: 126 | D4: =+B4+C4 -> 293
A5: Gipuzkoako Foru Ogasuna | B5: 22 | C5: 16 | D5: =+B5+C5 -> 38
A6: Bizkaiko Foru Ogasuna | B6: 5 | C6: 4 | D6: =+B6+C6 -> 9
A7: Arabako Foru Ogasuna | B7: 1 | C7: 8 | D7: =+B7+C7 -> 9
A8: Guztira | B8: =SUM(B4:B7) -> 195 | C8: =SUM(C4:C7) -> 154 | D8: =SUM(D4:D7) -> 349

Sheet C72
A1: 72. taula. Hitzarmenen eta lankidetza-akordioen zerrenda, eta indarrean sartzeko data
A3: Erakundea | B3: Hitzarmena | C3: Data
A4: Bulego likidatzaileak | B4: Ekonomia eta Ogasunaren eta Erregistratzaileen Elkargoaren arteko lankidetza-hitzarmena, Ondare Eskualdaketen eta Egintza Juridiko Dokumentatuen gaineko Zerga kudeatzeko | C4: 36341
A5: BJKN | B5: Botere Judizialaren Kontseilu Nagusiaren, Nafarroako Lehendakaritzako, Justiziako eta Barneko Sailaren eta Nafarroako Zerga Ogasunaren arteko lankidetza-hitzarmena, epaitegi eta auzitegiei datuak emateko | C5: 38737
A6: ZAEA | B6: Zerga Administrazioko Estatu Agentziaren eta Nafarroako Zerga Ogasunaren 2006/06/15eko lantaldeen ondorioak, egoitza-aldaketei, administrazio ez-eskuduneko diru-sarrerei, zerga-kontrolari, akta bakarrei, BEZaren bilbeei eta itzulketen enbarguari buruzkoak | C6: 38883
A7: Erregistroak | B7: Nafarroako Zerga Ogasunaren eta eta Nafarroako Merkataritza Erregistroaren arteko lankidetza-hitzarmena, Identifikazio Fiskaleko Kodea esleitzeko | C7: 39010
A8: Erregistroak | B8: Nafarroako Zerga Ogasunaren eta Erregistratzaileen Elkargoaren arteko hitzarmena, jabetza-erregistroetako datu-baseetara sartzeko | C8: 39127
A9: GSIN | B9: Nafarroako Zerga Ogasunaren eta Gizarte Segurantzako Insitutu Nazionalaren arteko akordioa, informazioa trukatzeko | C9: 39128
A10: GSDN | B10: Gizarte Segurantzaren Diruzaintza Nagusiaren eta Nafarroako Zerga Ogasunaren arteko lankidetza-hitzarmena, informazioa trukatzeko eta diru-bilketa kudeatzeko | C10: 39164
A11: EIN | B11: Nafarroako Zerga Ogasunaren eta Estatuko Enplegu Zerbitzu Publikoaren arteko lankidetza-hitzarmena, informazioa trukatzeko | C11: 39232
A12: GSDN | B12: Nafarroako Zerga Ogasunak eta Gizarte Segurantzaren Diruzaintza Nagusiak 2007ko martxoaren 23an sinatutako hitzarmenaren eranskina, informazioa trukatzeari eta zergen kudeaketari buruzkoa | C12: 40308
A13: EAO | B13: Estatuko Administrazio Orokorraren eta Nafarroako Foru Erkidegoko Administrazioaren arteko arkodioa, desjabetzearen arlokoa | C13: 40337
A14: TRACASA | B14: Zerga Ogasunaren eta Trabajos Catastrales SAren arteko akordio, datuen babesari buruzkoa | C14: 40637
A15: ZAEA | B15: Zerga Administrazioko Estatu Agentziaren eta Nafarroako Zerga Ogasuna erakunde autonomoaren arteko lankidetza-hitzarmena, zerga-xedeetarako informazioa trukatzeko | C15: 40688
... A27: Arabako Foru Aldundia | B27: Zerga-xedeetarako informazio-trukea | C27: 42429

Sheet C73
A1: 73. taula. Ikuskaritza Zerbitzuaren lankidetza-jarduketak, epaitegiekin eta beste administrazio eta erakunde publiko batzuekin
B3: Jasotakoak | C3: Bidalitakoak | D3: Guztira
A4: Epaitegiak | B4: 55 | C4: 68 | D4: =SUM(B4:C4) -> 123
A5: Udalak | B5: 1 | C5: 10 | D5: =SUM(B5:C5) -> 11
A6: Gizarte Segurantza | B6: 1 | C6: 1 | D6: =SUM(B6:C6) -> 2
A7: Nafarroako Gobernuko beste departamentu batzuk | B7: 6 | C7: 8 | D7: =SUM(B7:C7) -> 14
A8: Beste batzuk | B8: 4 | C8: 7 | D8: =SUM(B8:C8) -> 11
A9: Guztira | B9: =SUM(B4:B8) -> 67 | C9: =SUM(C4:C8) -> 94 | D9: =SUM(D4:D8) -> 161

Sheet C74
A1: 74. taula. Erakunde publikoekiko jarduketen kopurua
B3: Jarduketak
A4: Arartekoa | B4: 42
A5: Nafarroako Parlamentua | B5: 67
A6: Hitzarmen Ekonomikoko Arbitraje Batzordea | B6: 15
A7: GUZTIRA | B7: =SUM(B4:B6) -> 124

Sheet C75
A1: 75. taula. Erakunde laguntzaileen zerrenda eta horietako bakoitzeko langile kopurua. PFEZaren kanpaina
A3: Erakunde lguntzailea | B3: Langile kop.
A4: Nafarroako Ostalaritza Elkartea | B4: 2
A5: Nafarroako Ostalaritza Enpresa Txikien Elkartea | B5: 1
A6: Harakinen gremioa | B6: 3
A7: Arrainaren gremioa | B7: 1
A8: BBVA | B8: 69
A9: Banco Popular | B9: 71
A10: Caja España | B10: 4
A11: Caja Rural de Navarra | B11: 319
A12: Ibercaja | B12: 21
A13: INTIASA | B13: 4
A14: Kutxabank | B14: 1
A15: La Caixa | B15: 713
... A21: Nafarroako Nekazari eta Abeltzainen Batasuna | B21: 2
A22: GUZTIRA | B22: =SUM(B4:B21) -> 1304

Sheet C76
A1: 76. taula. Diru-bilketa kudeatzen laguntzen duten erakunde laguntzaileak. Erakunde kopurua. Ordainketen kopurua eta aplikatutako zenbatekoak
E2: 2017/2016 aldakuntza
B3: 2016. urtea | C3: 2017. urtea | E3: Guztira | F3: Aldakuntza-tasa
A4: Erakundeen kopurua | B4: 19 | C4: 19 | E4: =C4-B4 -> 0 | F4: =(C4-B4)/B4 -> 0
A5: Aplikatutako ordainketen kopurua | B5: 784000 | C5: 807000 | E5: =C5-B5 -> 23000 | F5: =(C5-B5)/B5 -> 0.029336735
A6: Aplikatutako zenbatekoak (mila €) | B6: 3280000 | C6: 3437000 | E6: =C6-B6 -> 157000 | F6: =(C6-B6)/B6 -> 0.047865854

Sheet C77
A1: 77. taula. Nafarroako Foru Ogasunaren jardueraren adierazleak
A3: "Zerga-kontrolerako jardueraren" indizea
B5: 2016 | C5: 2017 | E5: 2017/2016 aldakuntza
B6: Zenbatekoa mila euro | C6: Zenbatekoa mila euro | E6: Zenbatekoa mila euro | F6: Aldakuntza-tasa
A7: Zerga-kontrolerako jardueraren emaitzak. (*) | B7: 133869.44 | C7: 160123.04 | E7: =C7-B7 -> 26253.599 | F7: =(C7-B7)/B7 -> 0.19611346
A8: Zerga-bilketa likidoa. Kudeaketa zuzena. (**) | B8: 2449196.2 | C8: 2679701.3 | E8: =C8-B8 -> 230505.12 | F8: =(C8-B8)/B8 -> 0.094114601
A9: "Zerga-kontrolerako jardueraren" indizea | B9: =+B7/B8 -> 0.054658521 | C9: =+C7/C8 -> 0.059754063 | E9: =C9-B9 -> 0.0050955418 | F9: =(C9-B9)/B9 -> 0.093225022
A11: "Jardunaren" indizea
B13: 2016 | C13: 2016 | E13: 2017/2016 aldakuntza
B14: Balio absolutua | C14: Balio absolutua | E14: Balio absolutua | F14: Aldakuntza-tasa
A15: Zerga-kontrolerako jardueraren emaitzak. (*) | B15: 133869.44 | C15: 160123.04 | E15: =C15-B15 -> 26253.599 | F15: =(C15-B15)/B15 -> 0.19611346
A16: Nafarroako Zerga Ogasuneko langileak | B16: 315 | C16: 316 | E16: =C16-B16 -> 1 | F16: =(C16-B16)/B16 -> 0.0031746032
A17: "Jardunaren" indizea | B17: =(B15/B16)*1000 -> 424982.35 | C17: =(C15/C16)*1000 -> 506718.48 | E17: =C17-B17 -> 81736.129 | F17: =(C17-B17)/B17 -> 0.19232829
A19: "Eraginkortasunaren" indizea
B21: 2016 | C21: 2017 | E21: 2017/2016 aldakuntza
B22: Zenbatekoa mila euro | C22: Zenbatekoa mila euro | E22: Zenbatekoa mila euro | F22: Aldakuntza-tasa
A23: Zerga-kontrolerako jardueraren emaitzak. (*) | B23: 133869.44 | C23: 160123.04 | E23: =C23-B23 -> 26253.599 | F23: =(C23-B23)/B23 -> 0.19611346
A24: NZOren kostuak (Nafarroako Zerga Ogasuna). Egikaritutako aurrekontua (***) | B24: 27313.774 | C24: 26669.721 | E24: =C24-B24 -> -644.05326 | F24: =(C24-B24)/B24 -> -0.023579797
A25: "Eraginkortasunaren" indizea | B25: =B23/B24 -> 4.9011697 | C25: =C23/C24 -> 6.0039264 | E25: =C25-B25 -> 1.1027567 | F25: =(C25-B25)/B25 -> 0.22499868
A27: "Zerga-bilketa likidoaren kostuaren" indizea
B29: 2016 | C29: 2017 | E29: 2017/2016 aldakuntza
B30: Zenbatekoa mila euro | C30: Zenbatekoa mila euro | E30: Zenbatekoa mila euro | F30: Aldakuntza-tasa
A31: Nafarroako Zerga Ogasunaren kostuak. Aurrekontu kontsolidatua | B31: 27313.774 | C31: 26669.721 | E31: =C31-B31 -> -644.05326 | F31: =(C31-B31)/B31 -> -0.023579797
A32: Zerga-bilketa likidoa | B32: 3249731.9 | C32: 3682671.1 | E32: =C32-B32 -> 432939.26 | F32: =(C32-B32)/B32 -> 0.13322307
A33: "Zerga-bilketa likidoaren kostuaren" indizea | B33: =+(B31/B32)*100 -> 0.84049316 | C33: =+(C31/C32)*100 -> 0.72419502 | E33: =C33-B33 -> -0.11629814 | F33: =(C33-B33)/B33 -> -0.13836893
A36: (*) Zerga-kontrolerako jardueraren emaitzetan jasota daude zerga-kontrolaren guztizko emaitzak (zuzenak, eragindakoak eta egoitza fiskalarekin eta zifra erlatiboarekin lotutako jarduketak)
A37: (**) Zerga-bilketa likidoan (kudeaketa zuzena) ez daude sartuta zeharkako ezarpenaren Estatuarekiko doikuntza fiskalak
A38: (***) NZOren kostuetan ez dago sartuta Estatuari egindako ekarpen ekonomikoaren kostua
